BEGIN:VCALENDAR
VERSION:2.0
PRODID:-//Buckingham Town Council - ECPv6.15.20//NONSGML v1.0//EN
CALSCALE:GREGORIAN
METHOD:PUBLISH
X-ORIGINAL-URL:https://www.buckingham-tc.gov.uk
X-WR-CALDESC:Events for Buckingham Town Council
REFRESH-INTERVAL;VALUE=DURATION:PT1H
X-Robots-Tag:noindex
X-PUBLISHED-TTL:PT1H
BEGIN:VTIMEZONE
TZID:Europe/London
BEGIN:DAYLIGHT
TZOFFSETFROM:+0000
TZOFFSETTO:+0100
TZNAME:BST
DTSTART:20230326T010000
END:DAYLIGHT
BEGIN:STANDARD
TZOFFSETFROM:+0100
TZOFFSETTO:+0000
TZNAME:GMT
DTSTART:20231029T010000
END:STANDARD
BEGIN:DAYLIGHT
TZOFFSETFROM:+0000
TZOFFSETTO:+0100
TZNAME:BST
DTSTART:20240331T010000
END:DAYLIGHT
BEGIN:STANDARD
TZOFFSETFROM:+0100
TZOFFSETTO:+0000
TZNAME:GMT
DTSTART:20241027T010000
END:STANDARD
BEGIN:DAYLIGHT
TZOFFSETFROM:+0000
TZOFFSETTO:+0100
TZNAME:BST
DTSTART:20250330T010000
END:DAYLIGHT
BEGIN:STANDARD
TZOFFSETFROM:+0100
TZOFFSETTO:+0000
TZNAME:GMT
DTSTART:20251026T010000
END:STANDARD
END:VTIMEZONE
BEGIN:VEVENT
DTSTART;TZID=Europe/London:20240316T090000
DTEND;TZID=Europe/London:20240316T150000
DTSTAMP:20260419T133803
CREATED:20190620T150447Z
LAST-MODIFIED:20190620T150447Z
UID:10010625-1710579600-1710601200@www.buckingham-tc.gov.uk
SUMMARY:Flea Market
DESCRIPTION:Want to know what’s available this week? Follow the Buckingham Town Markets Facebook Page
URL:https://www.buckingham-tc.gov.uk/event/flea-market-2/2024-03-16/
LOCATION:Buckingham Flea Market\, Buckingham Flea Market\, Buckingham\, MK18 9BH\, United Kingdom
CATEGORIES:Markets
ATTACH;FMTTYPE=:
END:VEVENT
BEGIN:VEVENT
DTSTART;TZID=Europe/London:20240319T080000
DTEND;TZID=Europe/London:20240319T160000
DTSTAMP:20260419T133803
CREATED:20190620T143840Z
LAST-MODIFIED:20190620T143840Z
UID:10010054-1710835200-1710864000@www.buckingham-tc.gov.uk
SUMMARY:Street Market
DESCRIPTION:Want to know what’s available this week? Follow the Buckingham Town Markets Facebook Page
URL:https://www.buckingham-tc.gov.uk/event/street-market-2/2024-03-19/
LOCATION:Market Hill\, Market Hill\, Buckingham\, United Kingdom
CATEGORIES:Markets
ATTACH;FMTTYPE=:
END:VEVENT
BEGIN:VEVENT
DTSTART;TZID=Europe/London:20240323T080000
DTEND;TZID=Europe/London:20240323T160000
DTSTAMP:20260419T133803
CREATED:20190620T150403Z
LAST-MODIFIED:20190620T150403Z
UID:10010341-1711180800-1711209600@www.buckingham-tc.gov.uk
SUMMARY:Street Market
DESCRIPTION:Want to know what’s available this week? Follow the Buckingham Town Markets Facebook Page
URL:https://www.buckingham-tc.gov.uk/event/street-market-3/2024-03-23/
LOCATION:Market Hill\, Market Hill\, Buckingham\, United Kingdom
CATEGORIES:Markets
ATTACH;FMTTYPE=:
END:VEVENT
BEGIN:VEVENT
DTSTART;TZID=Europe/London:20240323T090000
DTEND;TZID=Europe/London:20240323T150000
DTSTAMP:20260419T133803
CREATED:20190620T150447Z
LAST-MODIFIED:20190620T150447Z
UID:10010626-1711184400-1711206000@www.buckingham-tc.gov.uk
SUMMARY:Flea Market
DESCRIPTION:Want to know what’s available this week? Follow the Buckingham Town Markets Facebook Page
URL:https://www.buckingham-tc.gov.uk/event/flea-market-2/2024-03-23/
LOCATION:Buckingham Flea Market\, Buckingham Flea Market\, Buckingham\, MK18 9BH\, United Kingdom
CATEGORIES:Markets
ATTACH;FMTTYPE=:
END:VEVENT
BEGIN:VEVENT
DTSTART;TZID=Europe/London:20240324T140000
DTEND;TZID=Europe/London:20240324T160000
DTSTAMP:20260419T133803
CREATED:20240201T114207Z
LAST-MODIFIED:20240201T114407Z
UID:10011034-1711288800-1711296000@www.buckingham-tc.gov.uk
SUMMARY:Easter Bazaar Craft Fair
DESCRIPTION:A family-friendly Easter Bazaar Craft Fair event will take place at Lace Hill Sports & Community Centre on Sunday 24th March from 2pm to 4pm. Expect a host of local makers exhibiting an array of handmade seasonal gifts and products\, lots of children’s’ activities and refreshments. There is a small £1 entry fee per adult with free entry for children.
URL:https://www.buckingham-tc.gov.uk/event/easter-bazaar-craft-fair/
CATEGORIES:Events
ATTACH;FMTTYPE=image/jpeg:https://www.buckingham-tc.gov.uk/wp-content/uploads/2024/02/IMG_20220411_084811_458.jpg
END:VEVENT
BEGIN:VEVENT
DTSTART;TZID=Europe/London:20240326T080000
DTEND;TZID=Europe/London:20240326T160000
DTSTAMP:20260419T133803
CREATED:20190620T143840Z
LAST-MODIFIED:20190620T143840Z
UID:10010055-1711440000-1711468800@www.buckingham-tc.gov.uk
SUMMARY:Street Market
DESCRIPTION:Want to know what’s available this week? Follow the Buckingham Town Markets Facebook Page
URL:https://www.buckingham-tc.gov.uk/event/street-market-2/2024-03-26/
LOCATION:Market Hill\, Market Hill\, Buckingham\, United Kingdom
CATEGORIES:Markets
ATTACH;FMTTYPE=:
END:VEVENT
BEGIN:VEVENT
DTSTART;TZID=Europe/London:20240330T080000
DTEND;TZID=Europe/London:20240330T160000
DTSTAMP:20260419T133803
CREATED:20190620T150403Z
LAST-MODIFIED:20190620T150403Z
UID:10010342-1711785600-1711814400@www.buckingham-tc.gov.uk
SUMMARY:Street Market
DESCRIPTION:Want to know what’s available this week? Follow the Buckingham Town Markets Facebook Page
URL:https://www.buckingham-tc.gov.uk/event/street-market-3/2024-03-30/
LOCATION:Market Hill\, Market Hill\, Buckingham\, United Kingdom
CATEGORIES:Markets
ATTACH;FMTTYPE=:
END:VEVENT
BEGIN:VEVENT
DTSTART;TZID=Europe/London:20240330T090000
DTEND;TZID=Europe/London:20240330T150000
DTSTAMP:20260419T133803
CREATED:20190620T150447Z
LAST-MODIFIED:20190620T150447Z
UID:10010627-1711789200-1711810800@www.buckingham-tc.gov.uk
SUMMARY:Flea Market
DESCRIPTION:Want to know what’s available this week? Follow the Buckingham Town Markets Facebook Page
URL:https://www.buckingham-tc.gov.uk/event/flea-market-2/2024-03-30/
LOCATION:Buckingham Flea Market\, Buckingham Flea Market\, Buckingham\, MK18 9BH\, United Kingdom
CATEGORIES:Markets
ATTACH;FMTTYPE=:
END:VEVENT
BEGIN:VEVENT
DTSTART;TZID=Europe/London:20240402T080000
DTEND;TZID=Europe/London:20240402T160000
DTSTAMP:20260419T133803
CREATED:20190620T143840Z
LAST-MODIFIED:20190620T143840Z
UID:10010056-1712044800-1712073600@www.buckingham-tc.gov.uk
SUMMARY:Street Market
DESCRIPTION:Want to know what’s available this week? Follow the Buckingham Town Markets Facebook Page
URL:https://www.buckingham-tc.gov.uk/event/street-market-2/2024-04-02/
LOCATION:Market Hill\, Market Hill\, Buckingham\, United Kingdom
CATEGORIES:Markets
ATTACH;FMTTYPE=:
END:VEVENT
BEGIN:VEVENT
DTSTART;TZID=Europe/London:20240406T080000
DTEND;TZID=Europe/London:20240406T160000
DTSTAMP:20260419T133803
CREATED:20190620T150403Z
LAST-MODIFIED:20190620T150403Z
UID:10010343-1712390400-1712419200@www.buckingham-tc.gov.uk
SUMMARY:Street Market
DESCRIPTION:Want to know what’s available this week? Follow the Buckingham Town Markets Facebook Page
URL:https://www.buckingham-tc.gov.uk/event/street-market-3/2024-04-06/
LOCATION:Market Hill\, Market Hill\, Buckingham\, United Kingdom
CATEGORIES:Markets
ATTACH;FMTTYPE=:
END:VEVENT
BEGIN:VEVENT
DTSTART;TZID=Europe/London:20240406T090000
DTEND;TZID=Europe/London:20240406T150000
DTSTAMP:20260419T133803
CREATED:20190620T150447Z
LAST-MODIFIED:20190620T150447Z
UID:10010628-1712394000-1712415600@www.buckingham-tc.gov.uk
SUMMARY:Flea Market
DESCRIPTION:Want to know what’s available this week? Follow the Buckingham Town Markets Facebook Page
URL:https://www.buckingham-tc.gov.uk/event/flea-market-2/2024-04-06/
LOCATION:Buckingham Flea Market\, Buckingham Flea Market\, Buckingham\, MK18 9BH\, United Kingdom
CATEGORIES:Markets
ATTACH;FMTTYPE=:
END:VEVENT
BEGIN:VEVENT
DTSTART;TZID=Europe/London:20240409T080000
DTEND;TZID=Europe/London:20240409T160000
DTSTAMP:20260419T133803
CREATED:20190620T143840Z
LAST-MODIFIED:20190620T143840Z
UID:10010057-1712649600-1712678400@www.buckingham-tc.gov.uk
SUMMARY:Street Market
DESCRIPTION:Want to know what’s available this week? Follow the Buckingham Town Markets Facebook Page
URL:https://www.buckingham-tc.gov.uk/event/street-market-2/2024-04-09/
LOCATION:Market Hill\, Market Hill\, Buckingham\, United Kingdom
CATEGORIES:Markets
ATTACH;FMTTYPE=:
END:VEVENT
BEGIN:VEVENT
DTSTART;TZID=Europe/London:20240413T080000
DTEND;TZID=Europe/London:20240413T160000
DTSTAMP:20260419T133803
CREATED:20190620T150403Z
LAST-MODIFIED:20190620T150403Z
UID:10010344-1712995200-1713024000@www.buckingham-tc.gov.uk
SUMMARY:Street Market
DESCRIPTION:Want to know what’s available this week? Follow the Buckingham Town Markets Facebook Page
URL:https://www.buckingham-tc.gov.uk/event/street-market-3/2024-04-13/
LOCATION:Market Hill\, Market Hill\, Buckingham\, United Kingdom
CATEGORIES:Markets
ATTACH;FMTTYPE=:
END:VEVENT
BEGIN:VEVENT
DTSTART;TZID=Europe/London:20240413T090000
DTEND;TZID=Europe/London:20240413T150000
DTSTAMP:20260419T133803
CREATED:20190620T150447Z
LAST-MODIFIED:20190620T150447Z
UID:10010629-1712998800-1713020400@www.buckingham-tc.gov.uk
SUMMARY:Flea Market
DESCRIPTION:Want to know what’s available this week? Follow the Buckingham Town Markets Facebook Page
URL:https://www.buckingham-tc.gov.uk/event/flea-market-2/2024-04-13/
LOCATION:Buckingham Flea Market\, Buckingham Flea Market\, Buckingham\, MK18 9BH\, United Kingdom
CATEGORIES:Markets
ATTACH;FMTTYPE=:
END:VEVENT
BEGIN:VEVENT
DTSTART;TZID=Europe/London:20240416T080000
DTEND;TZID=Europe/London:20240416T160000
DTSTAMP:20260419T133803
CREATED:20190620T143840Z
LAST-MODIFIED:20190620T143840Z
UID:10010058-1713254400-1713283200@www.buckingham-tc.gov.uk
SUMMARY:Street Market
DESCRIPTION:Want to know what’s available this week? Follow the Buckingham Town Markets Facebook Page
URL:https://www.buckingham-tc.gov.uk/event/street-market-2/2024-04-16/
LOCATION:Market Hill\, Market Hill\, Buckingham\, United Kingdom
CATEGORIES:Markets
ATTACH;FMTTYPE=:
END:VEVENT
BEGIN:VEVENT
DTSTART;TZID=Europe/London:20240420T080000
DTEND;TZID=Europe/London:20240420T160000
DTSTAMP:20260419T133803
CREATED:20190620T150403Z
LAST-MODIFIED:20190620T150403Z
UID:10010345-1713600000-1713628800@www.buckingham-tc.gov.uk
SUMMARY:Street Market
DESCRIPTION:Want to know what’s available this week? Follow the Buckingham Town Markets Facebook Page
URL:https://www.buckingham-tc.gov.uk/event/street-market-3/2024-04-20/
LOCATION:Market Hill\, Market Hill\, Buckingham\, United Kingdom
CATEGORIES:Markets
ATTACH;FMTTYPE=:
END:VEVENT
BEGIN:VEVENT
DTSTART;TZID=Europe/London:20240420T090000
DTEND;TZID=Europe/London:20240420T150000
DTSTAMP:20260419T133803
CREATED:20190620T150447Z
LAST-MODIFIED:20190620T150447Z
UID:10010630-1713603600-1713625200@www.buckingham-tc.gov.uk
SUMMARY:Flea Market
DESCRIPTION:Want to know what’s available this week? Follow the Buckingham Town Markets Facebook Page
URL:https://www.buckingham-tc.gov.uk/event/flea-market-2/2024-04-20/
LOCATION:Buckingham Flea Market\, Buckingham Flea Market\, Buckingham\, MK18 9BH\, United Kingdom
CATEGORIES:Markets
ATTACH;FMTTYPE=:
END:VEVENT
BEGIN:VEVENT
DTSTART;TZID=Europe/London:20240423T080000
DTEND;TZID=Europe/London:20240423T160000
DTSTAMP:20260419T133803
CREATED:20190620T143840Z
LAST-MODIFIED:20190620T143840Z
UID:10010059-1713859200-1713888000@www.buckingham-tc.gov.uk
SUMMARY:Street Market
DESCRIPTION:Want to know what’s available this week? Follow the Buckingham Town Markets Facebook Page
URL:https://www.buckingham-tc.gov.uk/event/street-market-2/2024-04-23/
LOCATION:Market Hill\, Market Hill\, Buckingham\, United Kingdom
CATEGORIES:Markets
ATTACH;FMTTYPE=:
END:VEVENT
BEGIN:VEVENT
DTSTART;TZID=Europe/London:20240427T080000
DTEND;TZID=Europe/London:20240427T160000
DTSTAMP:20260419T133803
CREATED:20190620T150403Z
LAST-MODIFIED:20190620T150403Z
UID:10010346-1714204800-1714233600@www.buckingham-tc.gov.uk
SUMMARY:Street Market
DESCRIPTION:Want to know what’s available this week? Follow the Buckingham Town Markets Facebook Page
URL:https://www.buckingham-tc.gov.uk/event/street-market-3/2024-04-27/
LOCATION:Market Hill\, Market Hill\, Buckingham\, United Kingdom
CATEGORIES:Markets
ATTACH;FMTTYPE=:
END:VEVENT
BEGIN:VEVENT
DTSTART;TZID=Europe/London:20240427T090000
DTEND;TZID=Europe/London:20240427T150000
DTSTAMP:20260419T133803
CREATED:20190620T150447Z
LAST-MODIFIED:20190620T150447Z
UID:10010631-1714208400-1714230000@www.buckingham-tc.gov.uk
SUMMARY:Flea Market
DESCRIPTION:Want to know what’s available this week? Follow the Buckingham Town Markets Facebook Page
URL:https://www.buckingham-tc.gov.uk/event/flea-market-2/2024-04-27/
LOCATION:Buckingham Flea Market\, Buckingham Flea Market\, Buckingham\, MK18 9BH\, United Kingdom
CATEGORIES:Markets
ATTACH;FMTTYPE=:
END:VEVENT
BEGIN:VEVENT
DTSTART;TZID=Europe/London:20240430T080000
DTEND;TZID=Europe/London:20240430T160000
DTSTAMP:20260419T133803
CREATED:20190620T143840Z
LAST-MODIFIED:20190620T143840Z
UID:10010060-1714464000-1714492800@www.buckingham-tc.gov.uk
SUMMARY:Street Market
DESCRIPTION:Want to know what’s available this week? Follow the Buckingham Town Markets Facebook Page
URL:https://www.buckingham-tc.gov.uk/event/street-market-2/2024-04-30/
LOCATION:Market Hill\, Market Hill\, Buckingham\, United Kingdom
CATEGORIES:Markets
ATTACH;FMTTYPE=:
END:VEVENT
BEGIN:VEVENT
DTSTART;TZID=Europe/London:20240504T080000
DTEND;TZID=Europe/London:20240504T160000
DTSTAMP:20260419T133803
CREATED:20190620T150403Z
LAST-MODIFIED:20190620T150403Z
UID:10010347-1714809600-1714838400@www.buckingham-tc.gov.uk
SUMMARY:Street Market
DESCRIPTION:Want to know what’s available this week? Follow the Buckingham Town Markets Facebook Page
URL:https://www.buckingham-tc.gov.uk/event/street-market-3/2024-05-04/
LOCATION:Market Hill\, Market Hill\, Buckingham\, United Kingdom
CATEGORIES:Markets
ATTACH;FMTTYPE=:
END:VEVENT
BEGIN:VEVENT
DTSTART;TZID=Europe/London:20240504T090000
DTEND;TZID=Europe/London:20240504T150000
DTSTAMP:20260419T133803
CREATED:20190620T150447Z
LAST-MODIFIED:20190620T150447Z
UID:10010632-1714813200-1714834800@www.buckingham-tc.gov.uk
SUMMARY:Flea Market
DESCRIPTION:Want to know what’s available this week? Follow the Buckingham Town Markets Facebook Page
URL:https://www.buckingham-tc.gov.uk/event/flea-market-2/2024-05-04/
LOCATION:Buckingham Flea Market\, Buckingham Flea Market\, Buckingham\, MK18 9BH\, United Kingdom
CATEGORIES:Markets
ATTACH;FMTTYPE=:
END:VEVENT
BEGIN:VEVENT
DTSTART;TZID=Europe/London:20240507T080000
DTEND;TZID=Europe/London:20240507T160000
DTSTAMP:20260419T133803
CREATED:20190620T143840Z
LAST-MODIFIED:20190620T143840Z
UID:10010061-1715068800-1715097600@www.buckingham-tc.gov.uk
SUMMARY:Street Market
DESCRIPTION:Want to know what’s available this week? Follow the Buckingham Town Markets Facebook Page
URL:https://www.buckingham-tc.gov.uk/event/street-market-2/2024-05-07/
LOCATION:Market Hill\, Market Hill\, Buckingham\, United Kingdom
CATEGORIES:Markets
ATTACH;FMTTYPE=:
END:VEVENT
BEGIN:VEVENT
DTSTART;TZID=Europe/London:20240511T080000
DTEND;TZID=Europe/London:20240511T160000
DTSTAMP:20260419T133803
CREATED:20190620T150403Z
LAST-MODIFIED:20190620T150403Z
UID:10010348-1715414400-1715443200@www.buckingham-tc.gov.uk
SUMMARY:Street Market
DESCRIPTION:Want to know what’s available this week? Follow the Buckingham Town Markets Facebook Page
URL:https://www.buckingham-tc.gov.uk/event/street-market-3/2024-05-11/
LOCATION:Market Hill\, Market Hill\, Buckingham\, United Kingdom
CATEGORIES:Markets
ATTACH;FMTTYPE=:
END:VEVENT
BEGIN:VEVENT
DTSTART;TZID=Europe/London:20240511T090000
DTEND;TZID=Europe/London:20240511T150000
DTSTAMP:20260419T133803
CREATED:20190620T150447Z
LAST-MODIFIED:20190620T150447Z
UID:10010633-1715418000-1715439600@www.buckingham-tc.gov.uk
SUMMARY:Flea Market
DESCRIPTION:Want to know what’s available this week? Follow the Buckingham Town Markets Facebook Page
URL:https://www.buckingham-tc.gov.uk/event/flea-market-2/2024-05-11/
LOCATION:Buckingham Flea Market\, Buckingham Flea Market\, Buckingham\, MK18 9BH\, United Kingdom
CATEGORIES:Markets
ATTACH;FMTTYPE=:
END:VEVENT
BEGIN:VEVENT
DTSTART;TZID=Europe/London:20240514T080000
DTEND;TZID=Europe/London:20240514T160000
DTSTAMP:20260419T133803
CREATED:20190620T143840Z
LAST-MODIFIED:20190620T143840Z
UID:10010062-1715673600-1715702400@www.buckingham-tc.gov.uk
SUMMARY:Street Market
DESCRIPTION:Want to know what’s available this week? Follow the Buckingham Town Markets Facebook Page
URL:https://www.buckingham-tc.gov.uk/event/street-market-2/2024-05-14/
LOCATION:Market Hill\, Market Hill\, Buckingham\, United Kingdom
CATEGORIES:Markets
ATTACH;FMTTYPE=:
END:VEVENT
BEGIN:VEVENT
DTSTART;TZID=Europe/London:20240518T080000
DTEND;TZID=Europe/London:20240518T160000
DTSTAMP:20260419T133803
CREATED:20190620T150403Z
LAST-MODIFIED:20190620T150403Z
UID:10010349-1716019200-1716048000@www.buckingham-tc.gov.uk
SUMMARY:Street Market
DESCRIPTION:Want to know what’s available this week? Follow the Buckingham Town Markets Facebook Page
URL:https://www.buckingham-tc.gov.uk/event/street-market-3/2024-05-18/
LOCATION:Market Hill\, Market Hill\, Buckingham\, United Kingdom
CATEGORIES:Markets
ATTACH;FMTTYPE=:
END:VEVENT
BEGIN:VEVENT
DTSTART;TZID=Europe/London:20240518T090000
DTEND;TZID=Europe/London:20240518T150000
DTSTAMP:20260419T133803
CREATED:20190620T150447Z
LAST-MODIFIED:20190620T150447Z
UID:10010634-1716022800-1716044400@www.buckingham-tc.gov.uk
SUMMARY:Flea Market
DESCRIPTION:Want to know what’s available this week? Follow the Buckingham Town Markets Facebook Page
URL:https://www.buckingham-tc.gov.uk/event/flea-market-2/2024-05-18/
LOCATION:Buckingham Flea Market\, Buckingham Flea Market\, Buckingham\, MK18 9BH\, United Kingdom
CATEGORIES:Markets
ATTACH;FMTTYPE=:
END:VEVENT
BEGIN:VEVENT
DTSTART;TZID=Europe/London:20240521T080000
DTEND;TZID=Europe/London:20240521T160000
DTSTAMP:20260419T133803
CREATED:20190620T143840Z
LAST-MODIFIED:20190620T143840Z
UID:10010063-1716278400-1716307200@www.buckingham-tc.gov.uk
SUMMARY:Street Market
DESCRIPTION:Want to know what’s available this week? Follow the Buckingham Town Markets Facebook Page
URL:https://www.buckingham-tc.gov.uk/event/street-market-2/2024-05-21/
LOCATION:Market Hill\, Market Hill\, Buckingham\, United Kingdom
CATEGORIES:Markets
ATTACH;FMTTYPE=:
END:VEVENT
END:VCALENDAR