BEGIN:VCALENDAR
VERSION:2.0
PRODID:-//Buckingham Town Council - ECPv6.15.20//NONSGML v1.0//EN
CALSCALE:GREGORIAN
METHOD:PUBLISH
X-ORIGINAL-URL:https://www.buckingham-tc.gov.uk
X-WR-CALDESC:Events for Buckingham Town Council
REFRESH-INTERVAL;VALUE=DURATION:PT1H
X-Robots-Tag:noindex
X-PUBLISHED-TTL:PT1H
BEGIN:VTIMEZONE
TZID:Europe/London
BEGIN:DAYLIGHT
TZOFFSETFROM:+0000
TZOFFSETTO:+0100
TZNAME:BST
DTSTART:20290325T010000
END:DAYLIGHT
BEGIN:STANDARD
TZOFFSETFROM:+0100
TZOFFSETTO:+0000
TZNAME:GMT
DTSTART:20291028T010000
END:STANDARD
BEGIN:DAYLIGHT
TZOFFSETFROM:+0000
TZOFFSETTO:+0100
TZNAME:BST
DTSTART:20300331T010000
END:DAYLIGHT
BEGIN:STANDARD
TZOFFSETFROM:+0100
TZOFFSETTO:+0000
TZNAME:GMT
DTSTART:20301027T010000
END:STANDARD
BEGIN:DAYLIGHT
TZOFFSETFROM:+0000
TZOFFSETTO:+0100
TZNAME:BST
DTSTART:20310330T010000
END:DAYLIGHT
BEGIN:STANDARD
TZOFFSETFROM:+0100
TZOFFSETTO:+0000
TZNAME:GMT
DTSTART:20311026T010000
END:STANDARD
END:VTIMEZONE
BEGIN:VEVENT
DTSTART;TZID=Europe/London:20300126T080000
DTEND;TZID=Europe/London:20300126T160000
DTSTAMP:20260419T152148
CREATED:20250326T162031Z
LAST-MODIFIED:20250327T093942Z
UID:10011629-1895644800-1895673600@www.buckingham-tc.gov.uk
SUMMARY:Street Market
DESCRIPTION:Buckingham’s street market sells fruits and vegetables\, flowers and plants\, bread\, pots and household goods in the backdrop of the historic Old Gaol area.
URL:https://www.buckingham-tc.gov.uk/event/street-market-4/2030-01-26/
CATEGORIES:Markets
END:VEVENT
BEGIN:VEVENT
DTSTART;TZID=Europe/London:20300129T080000
DTEND;TZID=Europe/London:20300129T160000
DTSTAMP:20260419T152148
CREATED:20250326T162031Z
LAST-MODIFIED:20250327T093942Z
UID:10011630-1895904000-1895932800@www.buckingham-tc.gov.uk
SUMMARY:Street Market
DESCRIPTION:Buckingham’s street market sells fruits and vegetables\, flowers and plants\, bread\, pots and household goods in the backdrop of the historic Old Gaol area.
URL:https://www.buckingham-tc.gov.uk/event/street-market-4/2030-01-29/
CATEGORIES:Markets
END:VEVENT
BEGIN:VEVENT
DTSTART;TZID=Europe/London:20300202T080000
DTEND;TZID=Europe/London:20300202T160000
DTSTAMP:20260419T152148
CREATED:20250326T162031Z
LAST-MODIFIED:20250327T093942Z
UID:10011631-1896249600-1896278400@www.buckingham-tc.gov.uk
SUMMARY:Street Market
DESCRIPTION:Buckingham’s street market sells fruits and vegetables\, flowers and plants\, bread\, pots and household goods in the backdrop of the historic Old Gaol area.
URL:https://www.buckingham-tc.gov.uk/event/street-market-4/2030-02-02/
CATEGORIES:Markets
END:VEVENT
BEGIN:VEVENT
DTSTART;TZID=Europe/London:20300205T080000
DTEND;TZID=Europe/London:20300205T160000
DTSTAMP:20260419T152148
CREATED:20250326T162031Z
LAST-MODIFIED:20250327T093942Z
UID:10011632-1896508800-1896537600@www.buckingham-tc.gov.uk
SUMMARY:Street Market
DESCRIPTION:Buckingham’s street market sells fruits and vegetables\, flowers and plants\, bread\, pots and household goods in the backdrop of the historic Old Gaol area.
URL:https://www.buckingham-tc.gov.uk/event/street-market-4/2030-02-05/
CATEGORIES:Markets
END:VEVENT
BEGIN:VEVENT
DTSTART;TZID=Europe/London:20300209T080000
DTEND;TZID=Europe/London:20300209T160000
DTSTAMP:20260419T152148
CREATED:20250326T162031Z
LAST-MODIFIED:20250327T093942Z
UID:10011633-1896854400-1896883200@www.buckingham-tc.gov.uk
SUMMARY:Street Market
DESCRIPTION:Buckingham’s street market sells fruits and vegetables\, flowers and plants\, bread\, pots and household goods in the backdrop of the historic Old Gaol area.
URL:https://www.buckingham-tc.gov.uk/event/street-market-4/2030-02-09/
CATEGORIES:Markets
END:VEVENT
BEGIN:VEVENT
DTSTART;TZID=Europe/London:20300212T080000
DTEND;TZID=Europe/London:20300212T160000
DTSTAMP:20260419T152148
CREATED:20250326T162031Z
LAST-MODIFIED:20250327T093942Z
UID:10011634-1897113600-1897142400@www.buckingham-tc.gov.uk
SUMMARY:Street Market
DESCRIPTION:Buckingham’s street market sells fruits and vegetables\, flowers and plants\, bread\, pots and household goods in the backdrop of the historic Old Gaol area.
URL:https://www.buckingham-tc.gov.uk/event/street-market-4/2030-02-12/
CATEGORIES:Markets
END:VEVENT
BEGIN:VEVENT
DTSTART;TZID=Europe/London:20300216T080000
DTEND;TZID=Europe/London:20300216T160000
DTSTAMP:20260419T152148
CREATED:20250326T162031Z
LAST-MODIFIED:20250327T093942Z
UID:10011635-1897459200-1897488000@www.buckingham-tc.gov.uk
SUMMARY:Street Market
DESCRIPTION:Buckingham’s street market sells fruits and vegetables\, flowers and plants\, bread\, pots and household goods in the backdrop of the historic Old Gaol area.
URL:https://www.buckingham-tc.gov.uk/event/street-market-4/2030-02-16/
CATEGORIES:Markets
END:VEVENT
BEGIN:VEVENT
DTSTART;TZID=Europe/London:20300219T080000
DTEND;TZID=Europe/London:20300219T160000
DTSTAMP:20260419T152148
CREATED:20250326T162031Z
LAST-MODIFIED:20250327T093942Z
UID:10011636-1897718400-1897747200@www.buckingham-tc.gov.uk
SUMMARY:Street Market
DESCRIPTION:Buckingham’s street market sells fruits and vegetables\, flowers and plants\, bread\, pots and household goods in the backdrop of the historic Old Gaol area.
URL:https://www.buckingham-tc.gov.uk/event/street-market-4/2030-02-19/
CATEGORIES:Markets
END:VEVENT
BEGIN:VEVENT
DTSTART;TZID=Europe/London:20300223T080000
DTEND;TZID=Europe/London:20300223T160000
DTSTAMP:20260419T152148
CREATED:20250326T162031Z
LAST-MODIFIED:20250327T093942Z
UID:10011637-1898064000-1898092800@www.buckingham-tc.gov.uk
SUMMARY:Street Market
DESCRIPTION:Buckingham’s street market sells fruits and vegetables\, flowers and plants\, bread\, pots and household goods in the backdrop of the historic Old Gaol area.
URL:https://www.buckingham-tc.gov.uk/event/street-market-4/2030-02-23/
CATEGORIES:Markets
END:VEVENT
BEGIN:VEVENT
DTSTART;TZID=Europe/London:20300226T080000
DTEND;TZID=Europe/London:20300226T160000
DTSTAMP:20260419T152148
CREATED:20250326T162031Z
LAST-MODIFIED:20250327T093942Z
UID:10011638-1898323200-1898352000@www.buckingham-tc.gov.uk
SUMMARY:Street Market
DESCRIPTION:Buckingham’s street market sells fruits and vegetables\, flowers and plants\, bread\, pots and household goods in the backdrop of the historic Old Gaol area.
URL:https://www.buckingham-tc.gov.uk/event/street-market-4/2030-02-26/
CATEGORIES:Markets
END:VEVENT
BEGIN:VEVENT
DTSTART;TZID=Europe/London:20300302T080000
DTEND;TZID=Europe/London:20300302T160000
DTSTAMP:20260419T152148
CREATED:20250326T162031Z
LAST-MODIFIED:20250327T093942Z
UID:10011639-1898668800-1898697600@www.buckingham-tc.gov.uk
SUMMARY:Street Market
DESCRIPTION:Buckingham’s street market sells fruits and vegetables\, flowers and plants\, bread\, pots and household goods in the backdrop of the historic Old Gaol area.
URL:https://www.buckingham-tc.gov.uk/event/street-market-4/2030-03-02/
CATEGORIES:Markets
END:VEVENT
BEGIN:VEVENT
DTSTART;TZID=Europe/London:20300305T080000
DTEND;TZID=Europe/London:20300305T160000
DTSTAMP:20260419T152148
CREATED:20250326T162031Z
LAST-MODIFIED:20250327T093942Z
UID:10011640-1898928000-1898956800@www.buckingham-tc.gov.uk
SUMMARY:Street Market
DESCRIPTION:Buckingham’s street market sells fruits and vegetables\, flowers and plants\, bread\, pots and household goods in the backdrop of the historic Old Gaol area.
URL:https://www.buckingham-tc.gov.uk/event/street-market-4/2030-03-05/
CATEGORIES:Markets
END:VEVENT
BEGIN:VEVENT
DTSTART;TZID=Europe/London:20300309T080000
DTEND;TZID=Europe/London:20300309T160000
DTSTAMP:20260419T152148
CREATED:20250326T162031Z
LAST-MODIFIED:20250327T093942Z
UID:10011641-1899273600-1899302400@www.buckingham-tc.gov.uk
SUMMARY:Street Market
DESCRIPTION:Buckingham’s street market sells fruits and vegetables\, flowers and plants\, bread\, pots and household goods in the backdrop of the historic Old Gaol area.
URL:https://www.buckingham-tc.gov.uk/event/street-market-4/2030-03-09/
CATEGORIES:Markets
END:VEVENT
BEGIN:VEVENT
DTSTART;TZID=Europe/London:20300312T080000
DTEND;TZID=Europe/London:20300312T160000
DTSTAMP:20260419T152148
CREATED:20250326T162031Z
LAST-MODIFIED:20250327T093942Z
UID:10011642-1899532800-1899561600@www.buckingham-tc.gov.uk
SUMMARY:Street Market
DESCRIPTION:Buckingham’s street market sells fruits and vegetables\, flowers and plants\, bread\, pots and household goods in the backdrop of the historic Old Gaol area.
URL:https://www.buckingham-tc.gov.uk/event/street-market-4/2030-03-12/
CATEGORIES:Markets
END:VEVENT
BEGIN:VEVENT
DTSTART;TZID=Europe/London:20300316T080000
DTEND;TZID=Europe/London:20300316T160000
DTSTAMP:20260419T152148
CREATED:20250326T162031Z
LAST-MODIFIED:20250327T093942Z
UID:10011643-1899878400-1899907200@www.buckingham-tc.gov.uk
SUMMARY:Street Market
DESCRIPTION:Buckingham’s street market sells fruits and vegetables\, flowers and plants\, bread\, pots and household goods in the backdrop of the historic Old Gaol area.
URL:https://www.buckingham-tc.gov.uk/event/street-market-4/2030-03-16/
CATEGORIES:Markets
END:VEVENT
BEGIN:VEVENT
DTSTART;TZID=Europe/London:20300319T080000
DTEND;TZID=Europe/London:20300319T160000
DTSTAMP:20260419T152148
CREATED:20250326T162031Z
LAST-MODIFIED:20250327T093942Z
UID:10011644-1900137600-1900166400@www.buckingham-tc.gov.uk
SUMMARY:Street Market
DESCRIPTION:Buckingham’s street market sells fruits and vegetables\, flowers and plants\, bread\, pots and household goods in the backdrop of the historic Old Gaol area.
URL:https://www.buckingham-tc.gov.uk/event/street-market-4/2030-03-19/
CATEGORIES:Markets
END:VEVENT
BEGIN:VEVENT
DTSTART;TZID=Europe/London:20300323T080000
DTEND;TZID=Europe/London:20300323T160000
DTSTAMP:20260419T152148
CREATED:20250326T162031Z
LAST-MODIFIED:20250327T093942Z
UID:10011645-1900483200-1900512000@www.buckingham-tc.gov.uk
SUMMARY:Street Market
DESCRIPTION:Buckingham’s street market sells fruits and vegetables\, flowers and plants\, bread\, pots and household goods in the backdrop of the historic Old Gaol area.
URL:https://www.buckingham-tc.gov.uk/event/street-market-4/2030-03-23/
CATEGORIES:Markets
END:VEVENT
BEGIN:VEVENT
DTSTART;TZID=Europe/London:20300326T080000
DTEND;TZID=Europe/London:20300326T160000
DTSTAMP:20260419T152148
CREATED:20250326T162031Z
LAST-MODIFIED:20250327T093942Z
UID:10011646-1900742400-1900771200@www.buckingham-tc.gov.uk
SUMMARY:Street Market
DESCRIPTION:Buckingham’s street market sells fruits and vegetables\, flowers and plants\, bread\, pots and household goods in the backdrop of the historic Old Gaol area.
URL:https://www.buckingham-tc.gov.uk/event/street-market-4/2030-03-26/
CATEGORIES:Markets
END:VEVENT
BEGIN:VEVENT
DTSTART;TZID=Europe/London:20300330T080000
DTEND;TZID=Europe/London:20300330T160000
DTSTAMP:20260419T152148
CREATED:20250326T162031Z
LAST-MODIFIED:20250327T093942Z
UID:10012456-1901088000-1901116800@www.buckingham-tc.gov.uk
SUMMARY:Street Market
DESCRIPTION:Buckingham’s street market sells fruits and vegetables\, flowers and plants\, bread\, pots and household goods in the backdrop of the historic Old Gaol area.
URL:https://www.buckingham-tc.gov.uk/event/street-market-4/2030-03-30/
CATEGORIES:Markets
END:VEVENT
BEGIN:VEVENT
DTSTART;TZID=Europe/London:20300402T080000
DTEND;TZID=Europe/London:20300402T160000
DTSTAMP:20260419T152148
CREATED:20250326T162031Z
LAST-MODIFIED:20250327T093942Z
UID:10012457-1901347200-1901376000@www.buckingham-tc.gov.uk
SUMMARY:Street Market
DESCRIPTION:Buckingham’s street market sells fruits and vegetables\, flowers and plants\, bread\, pots and household goods in the backdrop of the historic Old Gaol area.
URL:https://www.buckingham-tc.gov.uk/event/street-market-4/2030-04-02/
CATEGORIES:Markets
END:VEVENT
BEGIN:VEVENT
DTSTART;TZID=Europe/London:20300406T080000
DTEND;TZID=Europe/London:20300406T160000
DTSTAMP:20260419T152148
CREATED:20250326T162031Z
LAST-MODIFIED:20250327T093942Z
UID:10012458-1901692800-1901721600@www.buckingham-tc.gov.uk
SUMMARY:Street Market
DESCRIPTION:Buckingham’s street market sells fruits and vegetables\, flowers and plants\, bread\, pots and household goods in the backdrop of the historic Old Gaol area.
URL:https://www.buckingham-tc.gov.uk/event/street-market-4/2030-04-06/
CATEGORIES:Markets
END:VEVENT
BEGIN:VEVENT
DTSTART;TZID=Europe/London:20300409T080000
DTEND;TZID=Europe/London:20300409T160000
DTSTAMP:20260419T152148
CREATED:20250326T162031Z
LAST-MODIFIED:20250327T093942Z
UID:10012459-1901952000-1901980800@www.buckingham-tc.gov.uk
SUMMARY:Street Market
DESCRIPTION:Buckingham’s street market sells fruits and vegetables\, flowers and plants\, bread\, pots and household goods in the backdrop of the historic Old Gaol area.
URL:https://www.buckingham-tc.gov.uk/event/street-market-4/2030-04-09/
CATEGORIES:Markets
END:VEVENT
BEGIN:VEVENT
DTSTART;TZID=Europe/London:20300413T080000
DTEND;TZID=Europe/London:20300413T160000
DTSTAMP:20260419T152148
CREATED:20250326T162031Z
LAST-MODIFIED:20250327T093942Z
UID:10012460-1902297600-1902326400@www.buckingham-tc.gov.uk
SUMMARY:Street Market
DESCRIPTION:Buckingham’s street market sells fruits and vegetables\, flowers and plants\, bread\, pots and household goods in the backdrop of the historic Old Gaol area.
URL:https://www.buckingham-tc.gov.uk/event/street-market-4/2030-04-13/
CATEGORIES:Markets
END:VEVENT
BEGIN:VEVENT
DTSTART;TZID=Europe/London:20300416T080000
DTEND;TZID=Europe/London:20300416T160000
DTSTAMP:20260419T152148
CREATED:20250326T162031Z
LAST-MODIFIED:20250327T093942Z
UID:10012461-1902556800-1902585600@www.buckingham-tc.gov.uk
SUMMARY:Street Market
DESCRIPTION:Buckingham’s street market sells fruits and vegetables\, flowers and plants\, bread\, pots and household goods in the backdrop of the historic Old Gaol area.
URL:https://www.buckingham-tc.gov.uk/event/street-market-4/2030-04-16/
CATEGORIES:Markets
END:VEVENT
BEGIN:VEVENT
DTSTART;TZID=Europe/London:20300420T080000
DTEND;TZID=Europe/London:20300420T160000
DTSTAMP:20260419T152148
CREATED:20250326T162031Z
LAST-MODIFIED:20250327T093942Z
UID:10012462-1902902400-1902931200@www.buckingham-tc.gov.uk
SUMMARY:Street Market
DESCRIPTION:Buckingham’s street market sells fruits and vegetables\, flowers and plants\, bread\, pots and household goods in the backdrop of the historic Old Gaol area.
URL:https://www.buckingham-tc.gov.uk/event/street-market-4/2030-04-20/
CATEGORIES:Markets
END:VEVENT
BEGIN:VEVENT
DTSTART;TZID=Europe/London:20300423T080000
DTEND;TZID=Europe/London:20300423T160000
DTSTAMP:20260419T152148
CREATED:20250326T162031Z
LAST-MODIFIED:20250327T093942Z
UID:10012463-1903161600-1903190400@www.buckingham-tc.gov.uk
SUMMARY:Street Market
DESCRIPTION:Buckingham’s street market sells fruits and vegetables\, flowers and plants\, bread\, pots and household goods in the backdrop of the historic Old Gaol area.
URL:https://www.buckingham-tc.gov.uk/event/street-market-4/2030-04-23/
CATEGORIES:Markets
END:VEVENT
BEGIN:VEVENT
DTSTART;TZID=Europe/London:20300427T080000
DTEND;TZID=Europe/London:20300427T160000
DTSTAMP:20260419T152148
CREATED:20250326T162031Z
LAST-MODIFIED:20250327T093942Z
UID:10012464-1903507200-1903536000@www.buckingham-tc.gov.uk
SUMMARY:Street Market
DESCRIPTION:Buckingham’s street market sells fruits and vegetables\, flowers and plants\, bread\, pots and household goods in the backdrop of the historic Old Gaol area.
URL:https://www.buckingham-tc.gov.uk/event/street-market-4/2030-04-27/
CATEGORIES:Markets
END:VEVENT
BEGIN:VEVENT
DTSTART;TZID=Europe/London:20300430T080000
DTEND;TZID=Europe/London:20300430T160000
DTSTAMP:20260419T152148
CREATED:20250326T162031Z
LAST-MODIFIED:20250327T093942Z
UID:10012465-1903766400-1903795200@www.buckingham-tc.gov.uk
SUMMARY:Street Market
DESCRIPTION:Buckingham’s street market sells fruits and vegetables\, flowers and plants\, bread\, pots and household goods in the backdrop of the historic Old Gaol area.
URL:https://www.buckingham-tc.gov.uk/event/street-market-4/2030-04-30/
CATEGORIES:Markets
END:VEVENT
BEGIN:VEVENT
DTSTART;TZID=Europe/London:20300504T080000
DTEND;TZID=Europe/London:20300504T160000
DTSTAMP:20260419T152148
CREATED:20250326T162031Z
LAST-MODIFIED:20250327T093942Z
UID:10012466-1904112000-1904140800@www.buckingham-tc.gov.uk
SUMMARY:Street Market
DESCRIPTION:Buckingham’s street market sells fruits and vegetables\, flowers and plants\, bread\, pots and household goods in the backdrop of the historic Old Gaol area.
URL:https://www.buckingham-tc.gov.uk/event/street-market-4/2030-05-04/
CATEGORIES:Markets
END:VEVENT
BEGIN:VEVENT
DTSTART;TZID=Europe/London:20300507T080000
DTEND;TZID=Europe/London:20300507T160000
DTSTAMP:20260419T152148
CREATED:20250326T162031Z
LAST-MODIFIED:20250327T093942Z
UID:10012467-1904371200-1904400000@www.buckingham-tc.gov.uk
SUMMARY:Street Market
DESCRIPTION:Buckingham’s street market sells fruits and vegetables\, flowers and plants\, bread\, pots and household goods in the backdrop of the historic Old Gaol area.
URL:https://www.buckingham-tc.gov.uk/event/street-market-4/2030-05-07/
CATEGORIES:Markets
END:VEVENT
END:VCALENDAR