BEGIN:VCALENDAR
VERSION:2.0
PRODID:-//Buckingham Town Council - ECPv6.15.20//NONSGML v1.0//EN
CALSCALE:GREGORIAN
METHOD:PUBLISH
X-ORIGINAL-URL:https://www.buckingham-tc.gov.uk
X-WR-CALDESC:Events for Buckingham Town Council
REFRESH-INTERVAL;VALUE=DURATION:PT1H
X-Robots-Tag:noindex
X-PUBLISHED-TTL:PT1H
BEGIN:VTIMEZONE
TZID:Europe/London
BEGIN:DAYLIGHT
TZOFFSETFROM:+0000
TZOFFSETTO:+0100
TZNAME:BST
DTSTART:20220327T010000
END:DAYLIGHT
BEGIN:STANDARD
TZOFFSETFROM:+0100
TZOFFSETTO:+0000
TZNAME:GMT
DTSTART:20221030T010000
END:STANDARD
BEGIN:DAYLIGHT
TZOFFSETFROM:+0000
TZOFFSETTO:+0100
TZNAME:BST
DTSTART:20230326T010000
END:DAYLIGHT
BEGIN:STANDARD
TZOFFSETFROM:+0100
TZOFFSETTO:+0000
TZNAME:GMT
DTSTART:20231029T010000
END:STANDARD
BEGIN:DAYLIGHT
TZOFFSETFROM:+0000
TZOFFSETTO:+0100
TZNAME:BST
DTSTART:20240331T010000
END:DAYLIGHT
BEGIN:STANDARD
TZOFFSETFROM:+0100
TZOFFSETTO:+0000
TZNAME:GMT
DTSTART:20241027T010000
END:STANDARD
END:VTIMEZONE
BEGIN:VEVENT
DTSTART;TZID=Europe/London:20230730T080000
DTEND;TZID=Europe/London:20230730T170000
DTSTAMP:20260421T132057
CREATED:20230703T201506Z
LAST-MODIFIED:20230703T201513Z
UID:10010990-1690704000-1690736400@www.buckingham-tc.gov.uk
SUMMARY:Buckingham Swan Trail
DESCRIPTION:A free\, fun\, public art trail featuring ten artist decorated swan sculptures.
URL:https://www.buckingham-tc.gov.uk/event/buckingham-swan-trail-2/2023-07-30/
CATEGORIES:Events
END:VEVENT
BEGIN:VEVENT
DTSTART;TZID=Europe/London:20230730T113000
DTEND;TZID=Europe/London:20230730T143000
DTSTAMP:20260421T132057
CREATED:20230424T143852Z
LAST-MODIFIED:20230424T144637Z
UID:10010947-1690716600-1690727400@www.buckingham-tc.gov.uk
SUMMARY:Buckingham-opoly Trail
DESCRIPTION:Organised by the Charity Alec’s Angels and based on the Monopoly board game\, a Buckingham-opoly Trail is coming alive on Sunday 30th July 2023 for Buckingham’s Fringe Week.  Arrive at Buckingham Cricket Club for an event briefing at 11am before starting the event at 11:30am – 2:30pm. The Buckingham-opoly trail is based on locations around the town. This is an on-foot event\, no cars or bikes allowed and proof that you have visited each destination will be required. The team with the most points wins!
URL:https://www.buckingham-tc.gov.uk/event/buckingham-opoly-trail/
LOCATION:Buckingham Cricket Club\, Bourton Road\, Buckingham\, MK18 1BG
CATEGORIES:Events
ATTACH;FMTTYPE=image/png:https://www.buckingham-tc.gov.uk/wp-content/uploads/2023/04/alecs-angels-logo.png
END:VEVENT
BEGIN:VEVENT
DTSTART;TZID=Europe/London:20230731T080000
DTEND;TZID=Europe/London:20230731T170000
DTSTAMP:20260421T132057
CREATED:20230703T201506Z
LAST-MODIFIED:20230703T201513Z
UID:10010991-1690790400-1690822800@www.buckingham-tc.gov.uk
SUMMARY:Buckingham Swan Trail
DESCRIPTION:A free\, fun\, public art trail featuring ten artist decorated swan sculptures.
URL:https://www.buckingham-tc.gov.uk/event/buckingham-swan-trail-2/2023-07-31/
CATEGORIES:Events
END:VEVENT
BEGIN:VEVENT
DTSTART;TZID=Europe/London:20230731T173000
DTEND;TZID=Europe/London:20230731T183000
DTSTAMP:20260421T132057
CREATED:20230424T114201Z
LAST-MODIFIED:20230424T120157Z
UID:10010930-1690824600-1690828200@www.buckingham-tc.gov.uk
SUMMARY:Basketball Sessions (8-12yrs)
DESCRIPTION:Coach Jenner will be organising free Basketball sessions during July and August for children aged 8 – 12 years of age. Sessions for this age group will take place on the Multi Use Games Area (MUGA) in Chandos Park from 5:30pm – 6:30pm. Equipment will be supplied but please wear suitable footwear and bring a drink. All abilities are welcome.
URL:https://www.buckingham-tc.gov.uk/event/basketball-sessions-8-12yrs/
LOCATION:Chandos Park\, Chandos Park\, Buckingham\, Buckinghamshire\, MK18 1AJ\, United Kingdom
CATEGORIES:Events
ATTACH;FMTTYPE=image/jpeg:https://www.buckingham-tc.gov.uk/wp-content/uploads/2023/04/Arthur-Nichols-Jonny-Jervis-Sasha-Bidnyk-Sasah-Hapoh-Millie-Reynolds-Consent-Given-010822-Basketball-Sessions-Chandos-Park.jpg
END:VEVENT
BEGIN:VEVENT
DTSTART;TZID=Europe/London:20230731T184500
DTEND;TZID=Europe/London:20230731T194500
DTSTAMP:20260421T132057
CREATED:20230424T115424Z
LAST-MODIFIED:20230424T120321Z
UID:10010931-1690829100-1690832700@www.buckingham-tc.gov.uk
SUMMARY:Basketball Sessions (13+yrs)
DESCRIPTION:Coach Jenner will be organising free Basketball sessions during July and August for children aged 13+ years of age. Sessions for this age group will take place on the Multi Use Games Area (MUGA) in Bourton Park from 6:45pm – 7:45pm. Equipment will be supplied but please wear suitable footwear and bring a drink. All abilities are welcome.
URL:https://www.buckingham-tc.gov.uk/event/basketball-sessions-13yrs/
LOCATION:Bourton Park\, Buckingham\, MK18 7AB
CATEGORIES:Events
ATTACH;FMTTYPE=image/jpeg:https://www.buckingham-tc.gov.uk/wp-content/uploads/2023/04/13-yrs-at-Bourton-Park-Consent-Given-080822-8.jpg
END:VEVENT
BEGIN:VEVENT
DTSTART;TZID=Europe/London:20230801T080000
DTEND;TZID=Europe/London:20230801T160000
DTSTAMP:20260421T132057
CREATED:20190620T143840Z
LAST-MODIFIED:20190620T143840Z
UID:10010021-1690876800-1690905600@www.buckingham-tc.gov.uk
SUMMARY:Street Market
DESCRIPTION:Want to know what’s available this week? Follow the Buckingham Town Markets Facebook Page
URL:https://www.buckingham-tc.gov.uk/event/street-market-2/2023-08-01/
LOCATION:Market Hill\, Market Hill\, Buckingham\, United Kingdom
CATEGORIES:Markets
ATTACH;FMTTYPE=:
END:VEVENT
BEGIN:VEVENT
DTSTART;TZID=Europe/London:20230801T080000
DTEND;TZID=Europe/London:20230801T170000
DTSTAMP:20260421T132057
CREATED:20230703T201506Z
LAST-MODIFIED:20230703T201513Z
UID:10010992-1690876800-1690909200@www.buckingham-tc.gov.uk
SUMMARY:Buckingham Swan Trail
DESCRIPTION:A free\, fun\, public art trail featuring ten artist decorated swan sculptures.
URL:https://www.buckingham-tc.gov.uk/event/buckingham-swan-trail-2/2023-08-01/
CATEGORIES:Events
END:VEVENT
BEGIN:VEVENT
DTSTART;TZID=Europe/London:20230802T080000
DTEND;TZID=Europe/London:20230802T170000
DTSTAMP:20260421T132057
CREATED:20230703T201506Z
LAST-MODIFIED:20230703T201513Z
UID:10010993-1690963200-1690995600@www.buckingham-tc.gov.uk
SUMMARY:Buckingham Swan Trail
DESCRIPTION:A free\, fun\, public art trail featuring ten artist decorated swan sculptures.
URL:https://www.buckingham-tc.gov.uk/event/buckingham-swan-trail-2/2023-08-02/
CATEGORIES:Events
END:VEVENT
BEGIN:VEVENT
DTSTART;TZID=Europe/London:20230803T080000
DTEND;TZID=Europe/London:20230803T170000
DTSTAMP:20260421T132057
CREATED:20230703T201506Z
LAST-MODIFIED:20230703T201513Z
UID:10010994-1691049600-1691082000@www.buckingham-tc.gov.uk
SUMMARY:Buckingham Swan Trail
DESCRIPTION:A free\, fun\, public art trail featuring ten artist decorated swan sculptures.
URL:https://www.buckingham-tc.gov.uk/event/buckingham-swan-trail-2/2023-08-03/
CATEGORIES:Events
END:VEVENT
BEGIN:VEVENT
DTSTART;TZID=Europe/London:20230804T080000
DTEND;TZID=Europe/London:20230804T170000
DTSTAMP:20260421T132057
CREATED:20230703T201506Z
LAST-MODIFIED:20230703T201513Z
UID:10010995-1691136000-1691168400@www.buckingham-tc.gov.uk
SUMMARY:Buckingham Swan Trail
DESCRIPTION:A free\, fun\, public art trail featuring ten artist decorated swan sculptures.
URL:https://www.buckingham-tc.gov.uk/event/buckingham-swan-trail-2/2023-08-04/
CATEGORIES:Events
END:VEVENT
BEGIN:VEVENT
DTSTART;TZID=Europe/London:20230805T080000
DTEND;TZID=Europe/London:20230805T160000
DTSTAMP:20260421T132057
CREATED:20190620T150403Z
LAST-MODIFIED:20190620T150403Z
UID:10010308-1691222400-1691251200@www.buckingham-tc.gov.uk
SUMMARY:Street Market
DESCRIPTION:Want to know what’s available this week? Follow the Buckingham Town Markets Facebook Page
URL:https://www.buckingham-tc.gov.uk/event/street-market-3/2023-08-05/
LOCATION:Market Hill\, Market Hill\, Buckingham\, United Kingdom
CATEGORIES:Markets
ATTACH;FMTTYPE=:
END:VEVENT
BEGIN:VEVENT
DTSTART;TZID=Europe/London:20230805T080000
DTEND;TZID=Europe/London:20230805T170000
DTSTAMP:20260421T132057
CREATED:20230703T201506Z
LAST-MODIFIED:20230703T201513Z
UID:10010996-1691222400-1691254800@www.buckingham-tc.gov.uk
SUMMARY:Buckingham Swan Trail
DESCRIPTION:A free\, fun\, public art trail featuring ten artist decorated swan sculptures.
URL:https://www.buckingham-tc.gov.uk/event/buckingham-swan-trail-2/2023-08-05/
CATEGORIES:Events
END:VEVENT
BEGIN:VEVENT
DTSTART;TZID=Europe/London:20230805T090000
DTEND;TZID=Europe/London:20230805T150000
DTSTAMP:20260421T132057
CREATED:20190620T150447Z
LAST-MODIFIED:20190620T150447Z
UID:10010593-1691226000-1691247600@www.buckingham-tc.gov.uk
SUMMARY:Flea Market
DESCRIPTION:Want to know what’s available this week? Follow the Buckingham Town Markets Facebook Page
URL:https://www.buckingham-tc.gov.uk/event/flea-market-2/2023-08-05/
LOCATION:Buckingham Flea Market\, Buckingham Flea Market\, Buckingham\, MK18 9BH\, United Kingdom
CATEGORIES:Markets
ATTACH;FMTTYPE=:
END:VEVENT
BEGIN:VEVENT
DTSTART;TZID=Europe/London:20230806T080000
DTEND;TZID=Europe/London:20230806T170000
DTSTAMP:20260421T132057
CREATED:20230703T201506Z
LAST-MODIFIED:20230703T201513Z
UID:10010997-1691308800-1691341200@www.buckingham-tc.gov.uk
SUMMARY:Buckingham Swan Trail
DESCRIPTION:A free\, fun\, public art trail featuring ten artist decorated swan sculptures.
URL:https://www.buckingham-tc.gov.uk/event/buckingham-swan-trail-2/2023-08-06/
CATEGORIES:Events
END:VEVENT
BEGIN:VEVENT
DTSTART;TZID=Europe/London:20230807T080000
DTEND;TZID=Europe/London:20230807T170000
DTSTAMP:20260421T132057
CREATED:20230703T201506Z
LAST-MODIFIED:20230703T201513Z
UID:10010998-1691395200-1691427600@www.buckingham-tc.gov.uk
SUMMARY:Buckingham Swan Trail
DESCRIPTION:A free\, fun\, public art trail featuring ten artist decorated swan sculptures.
URL:https://www.buckingham-tc.gov.uk/event/buckingham-swan-trail-2/2023-08-07/
CATEGORIES:Events
END:VEVENT
BEGIN:VEVENT
DTSTART;TZID=Europe/London:20230807T173000
DTEND;TZID=Europe/London:20230807T183000
DTSTAMP:20260421T132057
CREATED:20230424T121600Z
LAST-MODIFIED:20230424T121843Z
UID:10010932-1691429400-1691433000@www.buckingham-tc.gov.uk
SUMMARY:Basketball Sessions (8-12yrs)
DESCRIPTION:Coach Jenner will be organising free Basketball sessions during July and August for children aged 8 – 12 years of age. Sessions for this age group will take place on the Multi Use Games Area (MUGA) in Chandos Park from 5:30pm – 6:30pm. Equipment will be supplied but please wear suitable footwear and bring a drink. All abilities are welcome.
URL:https://www.buckingham-tc.gov.uk/event/basketball-sessions-8-12yrs-2/
LOCATION:Chandos Park\, Chandos Park\, Buckingham\, Buckinghamshire\, MK18 1AJ\, United Kingdom
CATEGORIES:Events
ATTACH;FMTTYPE=image/jpeg:https://www.buckingham-tc.gov.uk/wp-content/uploads/2023/04/Arthur-Nichols-Jonny-Jervis-Sasha-Bidnyk-Sasah-Hapoh-Millie-Reynolds-Consent-Given-010822-Basketball-Sessions-Chandos-Park.jpg
END:VEVENT
BEGIN:VEVENT
DTSTART;TZID=Europe/London:20230807T184500
DTEND;TZID=Europe/London:20230807T194500
DTSTAMP:20260421T132057
CREATED:20230424T121855Z
LAST-MODIFIED:20230424T122207Z
UID:10010933-1691433900-1691437500@www.buckingham-tc.gov.uk
SUMMARY:Basketball Sessions (13+yrs)
DESCRIPTION:Coach Jenner will be organising free Basketball sessions during July and August for children aged 13+ years of age. Sessions for this age group will take place on the Multi Use Games Area (MUGA) in Bourton Park from 6:45pm – 7:45pm. Equipment will be supplied but please wear suitable footwear and bring a drink. All abilities are welcome.
URL:https://www.buckingham-tc.gov.uk/event/basketball-sessions-13yrs-2/
LOCATION:Bourton Park\, Buckingham\, MK18 7AB
CATEGORIES:Events
ATTACH;FMTTYPE=image/jpeg:https://www.buckingham-tc.gov.uk/wp-content/uploads/2023/04/13-yrs-at-Bourton-Park-Consent-Given-080822-8.jpg
END:VEVENT
BEGIN:VEVENT
DTSTART;TZID=Europe/London:20230808T080000
DTEND;TZID=Europe/London:20230808T160000
DTSTAMP:20260421T132057
CREATED:20190620T143840Z
LAST-MODIFIED:20190620T143840Z
UID:10010022-1691481600-1691510400@www.buckingham-tc.gov.uk
SUMMARY:Street Market
DESCRIPTION:Want to know what’s available this week? Follow the Buckingham Town Markets Facebook Page
URL:https://www.buckingham-tc.gov.uk/event/street-market-2/2023-08-08/
LOCATION:Market Hill\, Market Hill\, Buckingham\, United Kingdom
CATEGORIES:Markets
ATTACH;FMTTYPE=:
END:VEVENT
BEGIN:VEVENT
DTSTART;TZID=Europe/London:20230808T080000
DTEND;TZID=Europe/London:20230808T170000
DTSTAMP:20260421T132057
CREATED:20230703T201506Z
LAST-MODIFIED:20230703T201513Z
UID:10010999-1691481600-1691514000@www.buckingham-tc.gov.uk
SUMMARY:Buckingham Swan Trail
DESCRIPTION:A free\, fun\, public art trail featuring ten artist decorated swan sculptures.
URL:https://www.buckingham-tc.gov.uk/event/buckingham-swan-trail-2/2023-08-08/
CATEGORIES:Events
END:VEVENT
BEGIN:VEVENT
DTSTART;TZID=Europe/London:20230808T103000
DTEND;TZID=Europe/London:20230808T153000
DTSTAMP:20260421T132057
CREATED:20230424T113527Z
LAST-MODIFIED:20230424T120858Z
UID:10010928-1691490600-1691508600@www.buckingham-tc.gov.uk
SUMMARY:Buckingham Play Day
DESCRIPTION:Have a blast on inflatables\, try out some giant games or get creative with arts and crafts! These FREE play sessions are based in Chandos Park from 10:30am – 3:30pm and are aimed at children up to 12. This event is organised by Milton Keyes Play Association.
URL:https://www.buckingham-tc.gov.uk/event/buckingham-play-day-2/
LOCATION:Chandos Park\, Chandos Park\, Buckingham\, Buckinghamshire\, MK18 1AJ\, United Kingdom
CATEGORIES:Events
ATTACH;FMTTYPE=image/png:https://www.buckingham-tc.gov.uk/wp-content/uploads/2023/04/Buckingham-Play-Days-logo-1.png
END:VEVENT
BEGIN:VEVENT
DTSTART;TZID=Europe/London:20230809T080000
DTEND;TZID=Europe/London:20230809T170000
DTSTAMP:20260421T132057
CREATED:20230703T201506Z
LAST-MODIFIED:20230703T201513Z
UID:10011000-1691568000-1691600400@www.buckingham-tc.gov.uk
SUMMARY:Buckingham Swan Trail
DESCRIPTION:A free\, fun\, public art trail featuring ten artist decorated swan sculptures.
URL:https://www.buckingham-tc.gov.uk/event/buckingham-swan-trail-2/2023-08-09/
CATEGORIES:Events
END:VEVENT
BEGIN:VEVENT
DTSTART;TZID=Europe/London:20230810T080000
DTEND;TZID=Europe/London:20230810T170000
DTSTAMP:20260421T132057
CREATED:20230703T201506Z
LAST-MODIFIED:20230703T201513Z
UID:10011001-1691654400-1691686800@www.buckingham-tc.gov.uk
SUMMARY:Buckingham Swan Trail
DESCRIPTION:A free\, fun\, public art trail featuring ten artist decorated swan sculptures.
URL:https://www.buckingham-tc.gov.uk/event/buckingham-swan-trail-2/2023-08-10/
CATEGORIES:Events
END:VEVENT
BEGIN:VEVENT
DTSTART;TZID=Europe/London:20230811T080000
DTEND;TZID=Europe/London:20230811T170000
DTSTAMP:20260421T132057
CREATED:20230703T201506Z
LAST-MODIFIED:20230703T201513Z
UID:10011002-1691740800-1691773200@www.buckingham-tc.gov.uk
SUMMARY:Buckingham Swan Trail
DESCRIPTION:A free\, fun\, public art trail featuring ten artist decorated swan sculptures.
URL:https://www.buckingham-tc.gov.uk/event/buckingham-swan-trail-2/2023-08-11/
CATEGORIES:Events
END:VEVENT
BEGIN:VEVENT
DTSTART;TZID=Europe/London:20230812T080000
DTEND;TZID=Europe/London:20230812T160000
DTSTAMP:20260421T132057
CREATED:20190620T150403Z
LAST-MODIFIED:20190620T150403Z
UID:10010309-1691827200-1691856000@www.buckingham-tc.gov.uk
SUMMARY:Street Market
DESCRIPTION:Want to know what’s available this week? Follow the Buckingham Town Markets Facebook Page
URL:https://www.buckingham-tc.gov.uk/event/street-market-3/2023-08-12/
LOCATION:Market Hill\, Market Hill\, Buckingham\, United Kingdom
CATEGORIES:Markets
ATTACH;FMTTYPE=:
END:VEVENT
BEGIN:VEVENT
DTSTART;TZID=Europe/London:20230812T080000
DTEND;TZID=Europe/London:20230812T170000
DTSTAMP:20260421T132057
CREATED:20230703T201506Z
LAST-MODIFIED:20230703T201513Z
UID:10011003-1691827200-1691859600@www.buckingham-tc.gov.uk
SUMMARY:Buckingham Swan Trail
DESCRIPTION:A free\, fun\, public art trail featuring ten artist decorated swan sculptures.
URL:https://www.buckingham-tc.gov.uk/event/buckingham-swan-trail-2/2023-08-12/
CATEGORIES:Events
END:VEVENT
BEGIN:VEVENT
DTSTART;TZID=Europe/London:20230812T090000
DTEND;TZID=Europe/London:20230812T150000
DTSTAMP:20260421T132057
CREATED:20190620T150447Z
LAST-MODIFIED:20190620T150447Z
UID:10010594-1691830800-1691852400@www.buckingham-tc.gov.uk
SUMMARY:Flea Market
DESCRIPTION:Want to know what’s available this week? Follow the Buckingham Town Markets Facebook Page
URL:https://www.buckingham-tc.gov.uk/event/flea-market-2/2023-08-12/
LOCATION:Buckingham Flea Market\, Buckingham Flea Market\, Buckingham\, MK18 9BH\, United Kingdom
CATEGORIES:Markets
ATTACH;FMTTYPE=:
END:VEVENT
BEGIN:VEVENT
DTSTART;TZID=Europe/London:20230813T080000
DTEND;TZID=Europe/London:20230813T170000
DTSTAMP:20260421T132057
CREATED:20230703T201506Z
LAST-MODIFIED:20230703T201513Z
UID:10011004-1691913600-1691946000@www.buckingham-tc.gov.uk
SUMMARY:Buckingham Swan Trail
DESCRIPTION:A free\, fun\, public art trail featuring ten artist decorated swan sculptures.
URL:https://www.buckingham-tc.gov.uk/event/buckingham-swan-trail-2/2023-08-13/
CATEGORIES:Events
END:VEVENT
BEGIN:VEVENT
DTSTART;TZID=Europe/London:20230814T080000
DTEND;TZID=Europe/London:20230814T170000
DTSTAMP:20260421T132057
CREATED:20230703T201506Z
LAST-MODIFIED:20230703T201513Z
UID:10011005-1692000000-1692032400@www.buckingham-tc.gov.uk
SUMMARY:Buckingham Swan Trail
DESCRIPTION:A free\, fun\, public art trail featuring ten artist decorated swan sculptures.
URL:https://www.buckingham-tc.gov.uk/event/buckingham-swan-trail-2/2023-08-14/
CATEGORIES:Events
END:VEVENT
BEGIN:VEVENT
DTSTART;TZID=Europe/London:20230814T173000
DTEND;TZID=Europe/London:20230814T183000
DTSTAMP:20260421T132057
CREATED:20230424T122217Z
LAST-MODIFIED:20230424T122445Z
UID:10010934-1692034200-1692037800@www.buckingham-tc.gov.uk
SUMMARY:Basketball Sessions (8-12yrs)
DESCRIPTION:Coach Jenner will be organising free Basketball sessions during July and August for children aged 8 – 12 years of age. Sessions for this age group will take place on the Multi Use Games Area (MUGA) in Chandos Park from 5:30pm – 6:30pm. Equipment will be supplied but please wear suitable footwear and bring a drink. All abilities are welcome.
URL:https://www.buckingham-tc.gov.uk/event/basketball-sessions-8-12yrs-3/
LOCATION:Chandos Park\, Chandos Park\, Buckingham\, Buckinghamshire\, MK18 1AJ\, United Kingdom
CATEGORIES:Events
ATTACH;FMTTYPE=image/jpeg:https://www.buckingham-tc.gov.uk/wp-content/uploads/2023/04/Arthur-Nichols-Jonny-Jervis-Sasha-Bidnyk-Sasah-Hapoh-Millie-Reynolds-Consent-Given-010822-Basketball-Sessions-Chandos-Park.jpg
END:VEVENT
BEGIN:VEVENT
DTSTART;TZID=Europe/London:20230814T184500
DTEND;TZID=Europe/London:20230814T194500
DTSTAMP:20260421T132057
CREATED:20230424T122458Z
LAST-MODIFIED:20230424T122659Z
UID:10010935-1692038700-1692042300@www.buckingham-tc.gov.uk
SUMMARY:Basketball Sessions (13+yrs)
DESCRIPTION:Coach Jenner will be organising free Basketball sessions during July and August for children aged 13+ years of age. Sessions for this age group will take place on the Multi Use Games Area (MUGA) in Bourton Park from 6:45pm – 7:45pm. Equipment will be supplied but please wear suitable footwear and bring a drink. All abilities are welcome.
URL:https://www.buckingham-tc.gov.uk/event/basketball-sessions-13yrs-3/
LOCATION:Bourton Park\, Buckingham\, MK18 7AB
CATEGORIES:Events
ATTACH;FMTTYPE=image/jpeg:https://www.buckingham-tc.gov.uk/wp-content/uploads/2023/04/13-yrs-at-Bourton-Park-Consent-Given-080822-8.jpg
END:VEVENT
END:VCALENDAR