BEGIN:VCALENDAR
VERSION:2.0
PRODID:-//Buckingham Town Council - ECPv6.15.20//NONSGML v1.0//EN
CALSCALE:GREGORIAN
METHOD:PUBLISH
X-WR-CALNAME:Buckingham Town Council
X-ORIGINAL-URL:https://www.buckingham-tc.gov.uk
X-WR-CALDESC:Events for Buckingham Town Council
REFRESH-INTERVAL;VALUE=DURATION:PT1H
X-Robots-Tag:noindex
X-PUBLISHED-TTL:PT1H
BEGIN:VTIMEZONE
TZID:Europe/London
BEGIN:DAYLIGHT
TZOFFSETFROM:+0000
TZOFFSETTO:+0100
TZNAME:BST
DTSTART:20180325T010000
END:DAYLIGHT
BEGIN:STANDARD
TZOFFSETFROM:+0100
TZOFFSETTO:+0000
TZNAME:GMT
DTSTART:20181028T010000
END:STANDARD
BEGIN:DAYLIGHT
TZOFFSETFROM:+0000
TZOFFSETTO:+0100
TZNAME:BST
DTSTART:20190331T010000
END:DAYLIGHT
BEGIN:STANDARD
TZOFFSETFROM:+0100
TZOFFSETTO:+0000
TZNAME:GMT
DTSTART:20191027T010000
END:STANDARD
BEGIN:DAYLIGHT
TZOFFSETFROM:+0000
TZOFFSETTO:+0100
TZNAME:BST
DTSTART:20200329T010000
END:DAYLIGHT
BEGIN:STANDARD
TZOFFSETFROM:+0100
TZOFFSETTO:+0000
TZNAME:GMT
DTSTART:20201025T010000
END:STANDARD
END:VTIMEZONE
BEGIN:VEVENT
DTSTART;TZID=Europe/London:20190715T190000
DTEND;TZID=Europe/London:20190715T200000
DTSTAMP:20260422T180153
CREATED:20190627T103850Z
LAST-MODIFIED:20190627T103850Z
UID:10010671-1563217200-1563220800@www.buckingham-tc.gov.uk
SUMMARY:Dr James Henderson - What On Earth Is Up There?
DESCRIPTION:FREE EVENT – Come and meet local author and space fanatic Dr James Henderson. \nSpace is fascinating! \nJoin Dr James Henderson in this fun and captivating tour of space\, science and our wonderful Universe.
URL:https://www.buckingham-tc.gov.uk/event/dr-james-henderson-what-on-earth-is-up-there/
LOCATION:The Woolpack\, The Woolpack\, Buckingham\, Buckinghamhire\, MK18 1EP\, United Kingdom
CATEGORIES:Events
ATTACH;FMTTYPE=:
END:VEVENT
BEGIN:VEVENT
DTSTART;TZID=Europe/London:20190714T200000
DTEND;TZID=Europe/London:20190714T220000
DTSTAMP:20260422T180153
CREATED:20190626T155842Z
LAST-MODIFIED:20190626T155842Z
UID:10010670-1563134400-1563141600@www.buckingham-tc.gov.uk
SUMMARY:Comedy Night: Joel Dommett
DESCRIPTION:A part of the Buckingham Fringe Comedian Joel Dommett will be returning to Buckingham.  Joel was last here in 2017 and performed to a sold out audience.  One of the most exciting comedians in the UK he has become a regular face on TV\, from being a finalist in I’m A Celebrity get Me Out Of Here to hosing his brand new show Hey Tracey. \nMC for the evening will be Irishman Andrew Ryan and Louise Young will be making an appearance. \nTickets can be purchased from Buckingham Tourist Information Centre at the Old Gaol\, Market Hill\, Buckingham. Tickets cost £15 and are for over 18’s only.
URL:https://www.buckingham-tc.gov.uk/event/comedy-night-joel-dommett/
LOCATION:Royal latin School\, Royal Latin School\, Buckingham\, Buckinghamshire\, Mk18 1AX\, United Kingdom
CATEGORIES:Events
ATTACH;FMTTYPE=:
END:VEVENT
BEGIN:VEVENT
DTSTART;TZID=Europe/London:20190713T090000
DTEND;TZID=Europe/London:20190713T150000
DTSTAMP:20260422T180153
CREATED:20190620T150447Z
LAST-MODIFIED:20190620T150447Z
UID:10010381-1563008400-1563030000@www.buckingham-tc.gov.uk
SUMMARY:Flea Market
DESCRIPTION:Want to know what’s available this week? Follow the Buckingham Town Markets Facebook Page
URL:https://www.buckingham-tc.gov.uk/event/flea-market-2/2019-07-13/
LOCATION:Buckingham Flea Market\, Buckingham Flea Market\, Buckingham\, MK18 9BH\, United Kingdom
CATEGORIES:Markets
ATTACH;FMTTYPE=:
END:VEVENT
BEGIN:VEVENT
DTSTART;TZID=Europe/London:20190713T080000
DTEND;TZID=Europe/London:20190713T160000
DTSTAMP:20260422T180153
CREATED:20190620T150403Z
LAST-MODIFIED:20190620T150403Z
UID:10010096-1563004800-1563033600@www.buckingham-tc.gov.uk
SUMMARY:Street Market
DESCRIPTION:Want to know what’s available this week? Follow the Buckingham Town Markets Facebook Page
URL:https://www.buckingham-tc.gov.uk/event/street-market-3/2019-07-13/
LOCATION:Market Hill\, Market Hill\, Buckingham\, United Kingdom
CATEGORIES:Markets
ATTACH;FMTTYPE=:
END:VEVENT
BEGIN:VEVENT
DTSTART;TZID=Europe/London:20190713T000000
DTEND;TZID=Europe/London:20190721T235959
DTSTAMP:20260422T180153
CREATED:20190619T134212Z
LAST-MODIFIED:20190619T134212Z
UID:10009803-1562976000-1563753599@www.buckingham-tc.gov.uk
SUMMARY:Fringe Week
DESCRIPTION:Buckingham Town Council’s Fringe Week runs from 13th to 21st July and is based around the Theme of the Sun Moon and Stars. \nWith Comedians\, Magicians\, Fun Days\, Rock Hunts\, Wine Tasting and more this is a Fringe Week that everyone will love! \nSee all the Buckingham Fringe events in our new events calendar! \nTickets available at the Tourist Information Centre\, Old Gaol. \n  \n 
URL:https://www.buckingham-tc.gov.uk/event/fringe-week/
CATEGORIES:Events
ATTACH;FMTTYPE=:
END:VEVENT
BEGIN:VEVENT
DTSTART;TZID=Europe/London:20190713T000000
DTEND;TZID=Europe/London:20190713T235959
DTSTAMP:20260422T180153
CREATED:20190626T152934Z
LAST-MODIFIED:20190626T152934Z
UID:10010669-1562976000-1563062399@www.buckingham-tc.gov.uk
SUMMARY:#lovebuckingham Rock Hunt!
DESCRIPTION:Fun for all the family.  The #lovebuckingham intergalactic rock hunt will take place during the Buckingham Fringe.  We will be hiding decorated rocks around the town centre\, parks and estates in the morning ready for intrepid rock hunters to find.  each rock belongs to a local business – if you find a rock\, take it to that business to claim your prize! Follow #lovebuckingham on facebook and Instagram for more information and for live clues on the day. \n 
URL:https://www.buckingham-tc.gov.uk/event/lovebuckingham-rock-hunt/
LOCATION:Buckingham Town Centre\, MK18 1JX\, BUCKINGHAM\, Buckinghamshire\, MK18 1JX\, United Kingdom
CATEGORIES:Events
ATTACH;FMTTYPE=:
END:VEVENT
BEGIN:VEVENT
DTSTART;TZID=Europe/London:20190709T080000
DTEND;TZID=Europe/London:20190709T160000
DTSTAMP:20260422T180153
CREATED:20190620T143840Z
LAST-MODIFIED:20190620T143840Z
UID:10009809-1562659200-1562688000@www.buckingham-tc.gov.uk
SUMMARY:Street Market
DESCRIPTION:Want to know what’s available this week? Follow the Buckingham Town Markets Facebook Page
URL:https://www.buckingham-tc.gov.uk/event/street-market-2/2019-07-09/
LOCATION:Market Hill\, Market Hill\, Buckingham\, United Kingdom
CATEGORIES:Markets
ATTACH;FMTTYPE=:
END:VEVENT
BEGIN:VEVENT
DTSTART;TZID=Europe/London:20190706T090000
DTEND;TZID=Europe/London:20190706T150000
DTSTAMP:20260422T180153
CREATED:20190620T150447Z
LAST-MODIFIED:20190620T150447Z
UID:10010380-1562403600-1562425200@www.buckingham-tc.gov.uk
SUMMARY:Flea Market
DESCRIPTION:Want to know what’s available this week? Follow the Buckingham Town Markets Facebook Page
URL:https://www.buckingham-tc.gov.uk/event/flea-market-2/2019-07-06/
LOCATION:Buckingham Flea Market\, Buckingham Flea Market\, Buckingham\, MK18 9BH\, United Kingdom
CATEGORIES:Markets
ATTACH;FMTTYPE=:
END:VEVENT
BEGIN:VEVENT
DTSTART;TZID=Europe/London:20190706T080000
DTEND;TZID=Europe/London:20190706T160000
DTSTAMP:20260422T180153
CREATED:20190620T150403Z
LAST-MODIFIED:20190620T150403Z
UID:10010095-1562400000-1562428800@www.buckingham-tc.gov.uk
SUMMARY:Street Market
DESCRIPTION:Want to know what’s available this week? Follow the Buckingham Town Markets Facebook Page
URL:https://www.buckingham-tc.gov.uk/event/street-market-3/2019-07-06/
LOCATION:Market Hill\, Market Hill\, Buckingham\, United Kingdom
CATEGORIES:Markets
ATTACH;FMTTYPE=:
END:VEVENT
BEGIN:VEVENT
DTSTART;TZID=Europe/London:20190702T080000
DTEND;TZID=Europe/London:20190702T160000
DTSTAMP:20260422T180153
CREATED:20190620T143840Z
LAST-MODIFIED:20190620T143840Z
UID:10009808-1562054400-1562083200@www.buckingham-tc.gov.uk
SUMMARY:Street Market
DESCRIPTION:Want to know what’s available this week? Follow the Buckingham Town Markets Facebook Page
URL:https://www.buckingham-tc.gov.uk/event/street-market-2/2019-07-02/
LOCATION:Market Hill\, Market Hill\, Buckingham\, United Kingdom
CATEGORIES:Markets
ATTACH;FMTTYPE=:
END:VEVENT
BEGIN:VEVENT
DTSTART;TZID=Europe/London:20190629T090000
DTEND;TZID=Europe/London:20190629T150000
DTSTAMP:20260422T180153
CREATED:20190620T150447Z
LAST-MODIFIED:20190620T150447Z
UID:10010379-1561798800-1561820400@www.buckingham-tc.gov.uk
SUMMARY:Flea Market
DESCRIPTION:Want to know what’s available this week? Follow the Buckingham Town Markets Facebook Page
URL:https://www.buckingham-tc.gov.uk/event/flea-market-2/2019-06-29/
LOCATION:Buckingham Flea Market\, Buckingham Flea Market\, Buckingham\, MK18 9BH\, United Kingdom
CATEGORIES:Markets
ATTACH;FMTTYPE=:
END:VEVENT
BEGIN:VEVENT
DTSTART;TZID=Europe/London:20190629T080000
DTEND;TZID=Europe/London:20190629T160000
DTSTAMP:20260422T180153
CREATED:20190620T150403Z
LAST-MODIFIED:20190620T150403Z
UID:10010094-1561795200-1561824000@www.buckingham-tc.gov.uk
SUMMARY:Street Market
DESCRIPTION:Want to know what’s available this week? Follow the Buckingham Town Markets Facebook Page
URL:https://www.buckingham-tc.gov.uk/event/street-market-3/2019-06-29/
LOCATION:Market Hill\, Market Hill\, Buckingham\, United Kingdom
CATEGORIES:Markets
ATTACH;FMTTYPE=:
END:VEVENT
BEGIN:VEVENT
DTSTART;TZID=Europe/London:20190625T080000
DTEND;TZID=Europe/London:20190625T160000
DTSTAMP:20260422T180153
CREATED:20190620T143840Z
LAST-MODIFIED:20190620T143840Z
UID:10009807-1561449600-1561478400@www.buckingham-tc.gov.uk
SUMMARY:Street Market
DESCRIPTION:Want to know what’s available this week? Follow the Buckingham Town Markets Facebook Page
URL:https://www.buckingham-tc.gov.uk/event/street-market-2/2019-06-25/
LOCATION:Market Hill\, Market Hill\, Buckingham\, United Kingdom
CATEGORIES:Markets
ATTACH;FMTTYPE=:
END:VEVENT
BEGIN:VEVENT
DTSTART;TZID=Europe/London:20190622T090000
DTEND;TZID=Europe/London:20190622T150000
DTSTAMP:20260422T180153
CREATED:20190620T144348Z
LAST-MODIFIED:20190620T144348Z
UID:10010092-1561194000-1561215600@www.buckingham-tc.gov.uk
SUMMARY:Flea Market
DESCRIPTION:
URL:https://www.buckingham-tc.gov.uk/event/flea-market/
LOCATION:Buckingham Flea Market\, Buckingham Flea Market\, Buckingham\, MK18 9BH\, United Kingdom
CATEGORIES:Markets
END:VEVENT
BEGIN:VEVENT
DTSTART;TZID=Europe/London:20190622T080000
DTEND;TZID=Europe/London:20190622T160000
DTSTAMP:20260422T180153
CREATED:20190620T143755Z
LAST-MODIFIED:20190620T143755Z
UID:10009806-1561190400-1561219200@www.buckingham-tc.gov.uk
SUMMARY:Street Market
DESCRIPTION:
URL:https://www.buckingham-tc.gov.uk/event/street-market/
LOCATION:Market Hill\, Market Hill\, Buckingham\, United Kingdom
CATEGORIES:Markets
END:VEVENT
END:VCALENDAR