BEGIN:VCALENDAR
VERSION:2.0
PRODID:-//Buckingham Town Council - ECPv6.15.20//NONSGML v1.0//EN
CALSCALE:GREGORIAN
METHOD:PUBLISH
X-WR-CALNAME:Buckingham Town Council
X-ORIGINAL-URL:https://www.buckingham-tc.gov.uk
X-WR-CALDESC:Events for Buckingham Town Council
REFRESH-INTERVAL;VALUE=DURATION:PT1H
X-Robots-Tag:noindex
X-PUBLISHED-TTL:PT1H
BEGIN:VTIMEZONE
TZID:Europe/London
BEGIN:DAYLIGHT
TZOFFSETFROM:+0000
TZOFFSETTO:+0100
TZNAME:BST
DTSTART:20250330T010000
END:DAYLIGHT
BEGIN:STANDARD
TZOFFSETFROM:+0100
TZOFFSETTO:+0000
TZNAME:GMT
DTSTART:20251026T010000
END:STANDARD
BEGIN:DAYLIGHT
TZOFFSETFROM:+0000
TZOFFSETTO:+0100
TZNAME:BST
DTSTART:20260329T010000
END:DAYLIGHT
BEGIN:STANDARD
TZOFFSETFROM:+0100
TZOFFSETTO:+0000
TZNAME:GMT
DTSTART:20261025T010000
END:STANDARD
BEGIN:DAYLIGHT
TZOFFSETFROM:+0000
TZOFFSETTO:+0100
TZNAME:BST
DTSTART:20270328T010000
END:DAYLIGHT
BEGIN:STANDARD
TZOFFSETFROM:+0100
TZOFFSETTO:+0000
TZNAME:GMT
DTSTART:20271031T010000
END:STANDARD
END:VTIMEZONE
BEGIN:VEVENT
DTSTART;TZID=Europe/London:20260321T080000
DTEND;TZID=Europe/London:20260321T160000
DTSTAMP:20260419T213111
CREATED:20250326T162031Z
LAST-MODIFIED:20250327T093942Z
UID:10011227-1774080000-1774108800@www.buckingham-tc.gov.uk
SUMMARY:Street Market
DESCRIPTION:Buckingham’s street market sells fruits and vegetables\, flowers and plants\, bread\, pots and household goods in the backdrop of the historic Old Gaol area.
URL:https://www.buckingham-tc.gov.uk/event/street-market-4/2026-03-21/
CATEGORIES:Markets
END:VEVENT
BEGIN:VEVENT
DTSTART;TZID=Europe/London:20260324T080000
DTEND;TZID=Europe/London:20260324T160000
DTSTAMP:20260419T213111
CREATED:20250326T162031Z
LAST-MODIFIED:20250327T093942Z
UID:10011228-1774339200-1774368000@www.buckingham-tc.gov.uk
SUMMARY:Street Market
DESCRIPTION:Buckingham’s street market sells fruits and vegetables\, flowers and plants\, bread\, pots and household goods in the backdrop of the historic Old Gaol area.
URL:https://www.buckingham-tc.gov.uk/event/street-market-4/2026-03-24/
CATEGORIES:Markets
END:VEVENT
BEGIN:VEVENT
DTSTART;TZID=Europe/London:20260326T180000
DTEND;TZID=Europe/London:20260326T200000
DTSTAMP:20260419T213111
CREATED:20260122T105603Z
LAST-MODIFIED:20260227T102620Z
UID:10012551-1774548000-1774555200@www.buckingham-tc.gov.uk
SUMMARY:Buckingham's Annual Town Meeting
DESCRIPTION:The Buckingham Town Council invites all residents and business owners to join us for the 2026 Annual Town Meeting. This is an informal interactive evening which is not structured round a formal agenda. \n\n\n\nWhat to Expect: \n\n\n\nThe hall will be arranged into several Discussion Tables\, each hosted by representatives from the organisations that help our town run every day. This is an informal space where you can drop in\, grab a coffee or tea and a biscuit\, and speak directly with the people shaping our local services. \n\n\n\nConfirmed Discussion Tables\n\n\n\nWe are pleased to announce that the following partners will be hosting tables to discuss their work and hear your views: \n\n\n\n\nHealth: Meet The Swan Practice and the Integrated Neighbourhood Team (INT) to see the latest plans and get updates on Buckingham’s new Health Centre.\n\n\n\nAsk Your Town Council: Speak with representatives from Buckingham Town Council.\n\n\n\nPolice: Meet with Thames Valley Police to discuss local policing and safety in our community.\n\n\n\nEnvironment: Come and meet the experts from the Environment Agency who will be on hand to discuss their work.\n\n\n\nLocal Economy & Skills: Meet the Head of Business Support from Buckinghamshire Business First (BBF).\n\n\n\nCommunity: Connect with the North Bucks Community Board and find out how they support local projects and fund initiatives across the region.\n\n\n\nCallum Anderson MP: Hear directly from our MP and ask questions about local matters\n\n\n\n\n\n\n\n\nCommunity Stalls\n\n\n\nIn addition to the discussion tables\, you can browse stalls from local charities and community groups. It is a fantastic opportunity to see the incredible work happening right now in Buckingham. Confirmed stalls include: \n\n\n\n\nThe Buckingham Clothing Bank\n\n\n\nThe Family Hub\n\n\n\nThe Old Gaol Museum\n\n\n\nThe Buckingham Canal Society\n\n\n\nCitizens Advice\n\n\n\nA representative from Buckingham Town Council will be on hand to talk about the new cemetery and allotments.\n\n\n\nCouncillors who chair our various committees will be available to discuss the work of their committees\, and what they have acheived over the last year.\n\n\n\n\nWhether you want to discuss community safety or the future of our local healthcare\, there will be someone there to listen to your ideas and answer your questions. \n\n\n\n\n\n\n\nEvent Details: \n\n\n\n\nWhen: Thursday\, 26th March 2026\n\n\n\nTime: 6:00pm – 8:00pm\n\n\n\nWhere: Buckingham Community Centre\, Cornwall’s Meadow\n\n\n\nCost: Free to attend (No booking required)\n\n\n\n\n\n\n\n\nHave a question you want addressed? Keep an eye out for our Annual Online Forum\, launching soon\, where you can submit questions in advance!
URL:https://www.buckingham-tc.gov.uk/event/buckinghams-annual-town-meeting/
CATEGORIES:Events
END:VEVENT
BEGIN:VEVENT
DTSTART;TZID=Europe/London:20260328T080000
DTEND;TZID=Europe/London:20260328T160000
DTSTAMP:20260419T213111
CREATED:20250326T162031Z
LAST-MODIFIED:20250327T093942Z
UID:10011229-1774684800-1774713600@www.buckingham-tc.gov.uk
SUMMARY:Street Market
DESCRIPTION:Buckingham’s street market sells fruits and vegetables\, flowers and plants\, bread\, pots and household goods in the backdrop of the historic Old Gaol area.
URL:https://www.buckingham-tc.gov.uk/event/street-market-4/2026-03-28/
CATEGORIES:Markets
END:VEVENT
BEGIN:VEVENT
DTSTART;TZID=Europe/London:20260329T140000
DTEND;TZID=Europe/London:20260329T160000
DTSTAMP:20260419T213111
CREATED:20260112T164929Z
LAST-MODIFIED:20260112T164930Z
UID:10012549-1774792800-1774800000@www.buckingham-tc.gov.uk
SUMMARY:Easter Bazaar
DESCRIPTION:On Sunday 29th March\, Buckingham Town Council is hosting an egg-cellent Easter Bazaar from 2pm to 4pm at the Lace Hill Sports & Community Centre. \n\n\n\nThe community event will feature an array of local creatives selling handmade seasonal gifts and products\, as well as charity stalls and refreshments. Families with young children will find plenty of free activities to enjoy. With something for everyone\, this event is the perfect way to enjoy some early Easter fun during half term. More details on activities to be released closer to the time. \n\n\n\nEntry is free for children\, while adults are asked to contribute a small £1 fee to help support the event’s costs. \n\n\n\nFor stall holder enquiries\, please contact: lacehillcentre@buckingham-tc.gov.uk
URL:https://www.buckingham-tc.gov.uk/event/easter-bazaar-2/
CATEGORIES:Events
ATTACH;FMTTYPE=image/jpeg:https://www.buckingham-tc.gov.uk/wp-content/uploads/2025/02/easter-backdrop.jpg
END:VEVENT
BEGIN:VEVENT
DTSTART;TZID=Europe/London:20260331T080000
DTEND;TZID=Europe/London:20260331T160000
DTSTAMP:20260419T213111
CREATED:20250326T162031Z
LAST-MODIFIED:20250327T093942Z
UID:10011230-1774944000-1774972800@www.buckingham-tc.gov.uk
SUMMARY:Street Market
DESCRIPTION:Buckingham’s street market sells fruits and vegetables\, flowers and plants\, bread\, pots and household goods in the backdrop of the historic Old Gaol area.
URL:https://www.buckingham-tc.gov.uk/event/street-market-4/2026-03-31/
CATEGORIES:Markets
END:VEVENT
BEGIN:VEVENT
DTSTART;TZID=Europe/London:20260331T100000
DTEND;TZID=Europe/London:20260331T140000
DTSTAMP:20260419T213111
CREATED:20260323T154412Z
LAST-MODIFIED:20260323T154413Z
UID:10012553-1774951200-1774965600@www.buckingham-tc.gov.uk
SUMMARY:Dino and Crafts
DESCRIPTION:Get Ready for ROARSOME Easter Holiday Dinosaur Fun!  \n\n\n\nStep back in time this Easter for a prehistoric adventure right in the heart of Buckingham!On Tuesday 31st March\, the area outside the Old Gaol and inside the Exercise Yard will be transformed into a dino‑themed discovery zone — and YOU’RE invited! \n\n\n\n Meet a baby dinosaur. Create your very own fossil to take home. Craft a fierce dinosaur mask. Draw or colour your own dino masterpiece. \n\n\n\nJoin us any time between 10am and 2pm for a fun-filled day packed with creativity\, surprises\, and Jurassic magic. Perfect for families\, young explorers\, and dinosaur fans of all ages! \n\n\n\nCome along and let your imagination roar! 
URL:https://www.buckingham-tc.gov.uk/event/dino-and-crafts/
CATEGORIES:Events
END:VEVENT
BEGIN:VEVENT
DTSTART;TZID=Europe/London:20260404T080000
DTEND;TZID=Europe/London:20260404T160000
DTSTAMP:20260419T213111
CREATED:20250326T162031Z
LAST-MODIFIED:20250327T093942Z
UID:10011231-1775289600-1775318400@www.buckingham-tc.gov.uk
SUMMARY:Street Market
DESCRIPTION:Buckingham’s street market sells fruits and vegetables\, flowers and plants\, bread\, pots and household goods in the backdrop of the historic Old Gaol area.
URL:https://www.buckingham-tc.gov.uk/event/street-market-4/2026-04-04/
CATEGORIES:Markets
END:VEVENT
BEGIN:VEVENT
DTSTART;TZID=Europe/London:20260407T080000
DTEND;TZID=Europe/London:20260407T160000
DTSTAMP:20260419T213111
CREATED:20250326T162031Z
LAST-MODIFIED:20250327T093942Z
UID:10011232-1775548800-1775577600@www.buckingham-tc.gov.uk
SUMMARY:Street Market
DESCRIPTION:Buckingham’s street market sells fruits and vegetables\, flowers and plants\, bread\, pots and household goods in the backdrop of the historic Old Gaol area.
URL:https://www.buckingham-tc.gov.uk/event/street-market-4/2026-04-07/
CATEGORIES:Markets
END:VEVENT
BEGIN:VEVENT
DTSTART;TZID=Europe/London:20260411T080000
DTEND;TZID=Europe/London:20260411T160000
DTSTAMP:20260419T213111
CREATED:20250326T162031Z
LAST-MODIFIED:20250327T093942Z
UID:10011233-1775894400-1775923200@www.buckingham-tc.gov.uk
SUMMARY:Street Market
DESCRIPTION:Buckingham’s street market sells fruits and vegetables\, flowers and plants\, bread\, pots and household goods in the backdrop of the historic Old Gaol area.
URL:https://www.buckingham-tc.gov.uk/event/street-market-4/2026-04-11/
CATEGORIES:Markets
END:VEVENT
BEGIN:VEVENT
DTSTART;TZID=Europe/London:20260412T080000
DTEND;TZID=Europe/London:20260412T170000
DTSTAMP:20260419T213111
CREATED:20260108T115314Z
LAST-MODIFIED:20260323T154215Z
UID:10012542-1775980800-1776013200@www.buckingham-tc.gov.uk
SUMMARY:Green and Crafts
DESCRIPTION: Join us for a fun\, hands-on creative day out!  \n\n\n\nCome along to our Green and Crafts event on Sunday 12th April 2026\, 10am–3pm at the historic Cattle Pens in Buckingham town centre.Enjoy a whole range of free\, nature-inspired\, eco-friendly craft activities — perfect for families\, friends\, beginners\, and seasoned makers alike! Create clay seed balls\, try crochet or French bobbin knitting\, craft twig dreamcatchers\, paint jam-jar lanterns\, make egg-box portraits\, and more.Bring your imagination and enjoy a day full of creativity and community
URL:https://www.buckingham-tc.gov.uk/event/green-and-crafts/
CATEGORIES:Events
END:VEVENT
BEGIN:VEVENT
DTSTART;TZID=Europe/London:20260414T080000
DTEND;TZID=Europe/London:20260414T160000
DTSTAMP:20260419T213111
CREATED:20250326T162031Z
LAST-MODIFIED:20250327T093942Z
UID:10011234-1776153600-1776182400@www.buckingham-tc.gov.uk
SUMMARY:Street Market
DESCRIPTION:Buckingham’s street market sells fruits and vegetables\, flowers and plants\, bread\, pots and household goods in the backdrop of the historic Old Gaol area.
URL:https://www.buckingham-tc.gov.uk/event/street-market-4/2026-04-14/
CATEGORIES:Markets
END:VEVENT
BEGIN:VEVENT
DTSTART;TZID=Europe/London:20260418T080000
DTEND;TZID=Europe/London:20260418T160000
DTSTAMP:20260419T213111
CREATED:20250326T162031Z
LAST-MODIFIED:20250327T093942Z
UID:10011235-1776499200-1776528000@www.buckingham-tc.gov.uk
SUMMARY:Street Market
DESCRIPTION:Buckingham’s street market sells fruits and vegetables\, flowers and plants\, bread\, pots and household goods in the backdrop of the historic Old Gaol area.
URL:https://www.buckingham-tc.gov.uk/event/street-market-4/2026-04-18/
CATEGORIES:Markets
END:VEVENT
BEGIN:VEVENT
DTSTART;TZID=Europe/London:20260421T080000
DTEND;TZID=Europe/London:20260421T160000
DTSTAMP:20260419T213111
CREATED:20250326T162031Z
LAST-MODIFIED:20250327T093942Z
UID:10011236-1776758400-1776787200@www.buckingham-tc.gov.uk
SUMMARY:Street Market
DESCRIPTION:Buckingham’s street market sells fruits and vegetables\, flowers and plants\, bread\, pots and household goods in the backdrop of the historic Old Gaol area.
URL:https://www.buckingham-tc.gov.uk/event/street-market-4/2026-04-21/
CATEGORIES:Markets
END:VEVENT
BEGIN:VEVENT
DTSTART;TZID=Europe/London:20260425T080000
DTEND;TZID=Europe/London:20260425T160000
DTSTAMP:20260419T213111
CREATED:20250326T162031Z
LAST-MODIFIED:20250327T093942Z
UID:10011237-1777104000-1777132800@www.buckingham-tc.gov.uk
SUMMARY:Street Market
DESCRIPTION:Buckingham’s street market sells fruits and vegetables\, flowers and plants\, bread\, pots and household goods in the backdrop of the historic Old Gaol area.
URL:https://www.buckingham-tc.gov.uk/event/street-market-4/2026-04-25/
CATEGORIES:Markets
END:VEVENT
BEGIN:VEVENT
DTSTART;TZID=Europe/London:20260428T080000
DTEND;TZID=Europe/London:20260428T160000
DTSTAMP:20260419T213111
CREATED:20250326T162031Z
LAST-MODIFIED:20250327T093942Z
UID:10011238-1777363200-1777392000@www.buckingham-tc.gov.uk
SUMMARY:Street Market
DESCRIPTION:Buckingham’s street market sells fruits and vegetables\, flowers and plants\, bread\, pots and household goods in the backdrop of the historic Old Gaol area.
URL:https://www.buckingham-tc.gov.uk/event/street-market-4/2026-04-28/
CATEGORIES:Markets
END:VEVENT
BEGIN:VEVENT
DTSTART;TZID=Europe/London:20260502T080000
DTEND;TZID=Europe/London:20260502T160000
DTSTAMP:20260419T213111
CREATED:20250326T162031Z
LAST-MODIFIED:20250327T093942Z
UID:10011239-1777708800-1777737600@www.buckingham-tc.gov.uk
SUMMARY:Street Market
DESCRIPTION:Buckingham’s street market sells fruits and vegetables\, flowers and plants\, bread\, pots and household goods in the backdrop of the historic Old Gaol area.
URL:https://www.buckingham-tc.gov.uk/event/street-market-4/2026-05-02/
CATEGORIES:Markets
END:VEVENT
BEGIN:VEVENT
DTSTART;TZID=Europe/London:20260505T080000
DTEND;TZID=Europe/London:20260505T160000
DTSTAMP:20260419T213111
CREATED:20250326T162031Z
LAST-MODIFIED:20250327T093942Z
UID:10011240-1777968000-1777996800@www.buckingham-tc.gov.uk
SUMMARY:Street Market
DESCRIPTION:Buckingham’s street market sells fruits and vegetables\, flowers and plants\, bread\, pots and household goods in the backdrop of the historic Old Gaol area.
URL:https://www.buckingham-tc.gov.uk/event/street-market-4/2026-05-05/
CATEGORIES:Markets
END:VEVENT
BEGIN:VEVENT
DTSTART;TZID=Europe/London:20260509T080000
DTEND;TZID=Europe/London:20260509T160000
DTSTAMP:20260419T213111
CREATED:20250326T162031Z
LAST-MODIFIED:20250327T093942Z
UID:10011241-1778313600-1778342400@www.buckingham-tc.gov.uk
SUMMARY:Street Market
DESCRIPTION:Buckingham’s street market sells fruits and vegetables\, flowers and plants\, bread\, pots and household goods in the backdrop of the historic Old Gaol area.
URL:https://www.buckingham-tc.gov.uk/event/street-market-4/2026-05-09/
CATEGORIES:Markets
END:VEVENT
BEGIN:VEVENT
DTSTART;TZID=Europe/London:20260512T080000
DTEND;TZID=Europe/London:20260512T160000
DTSTAMP:20260419T213111
CREATED:20250326T162031Z
LAST-MODIFIED:20250327T093942Z
UID:10011242-1778572800-1778601600@www.buckingham-tc.gov.uk
SUMMARY:Street Market
DESCRIPTION:Buckingham’s street market sells fruits and vegetables\, flowers and plants\, bread\, pots and household goods in the backdrop of the historic Old Gaol area.
URL:https://www.buckingham-tc.gov.uk/event/street-market-4/2026-05-12/
CATEGORIES:Markets
END:VEVENT
BEGIN:VEVENT
DTSTART;TZID=Europe/London:20260516T080000
DTEND;TZID=Europe/London:20260516T160000
DTSTAMP:20260419T213111
CREATED:20250326T162031Z
LAST-MODIFIED:20250327T093942Z
UID:10011243-1778918400-1778947200@www.buckingham-tc.gov.uk
SUMMARY:Street Market
DESCRIPTION:Buckingham’s street market sells fruits and vegetables\, flowers and plants\, bread\, pots and household goods in the backdrop of the historic Old Gaol area.
URL:https://www.buckingham-tc.gov.uk/event/street-market-4/2026-05-16/
CATEGORIES:Markets
END:VEVENT
BEGIN:VEVENT
DTSTART;TZID=Europe/London:20260519T080000
DTEND;TZID=Europe/London:20260519T160000
DTSTAMP:20260419T213111
CREATED:20250326T162031Z
LAST-MODIFIED:20250327T093942Z
UID:10011244-1779177600-1779206400@www.buckingham-tc.gov.uk
SUMMARY:Street Market
DESCRIPTION:Buckingham’s street market sells fruits and vegetables\, flowers and plants\, bread\, pots and household goods in the backdrop of the historic Old Gaol area.
URL:https://www.buckingham-tc.gov.uk/event/street-market-4/2026-05-19/
CATEGORIES:Markets
END:VEVENT
BEGIN:VEVENT
DTSTART;TZID=Europe/London:20260523T080000
DTEND;TZID=Europe/London:20260523T160000
DTSTAMP:20260419T213111
CREATED:20250326T162031Z
LAST-MODIFIED:20250327T093942Z
UID:10011245-1779523200-1779552000@www.buckingham-tc.gov.uk
SUMMARY:Street Market
DESCRIPTION:Buckingham’s street market sells fruits and vegetables\, flowers and plants\, bread\, pots and household goods in the backdrop of the historic Old Gaol area.
URL:https://www.buckingham-tc.gov.uk/event/street-market-4/2026-05-23/
CATEGORIES:Markets
END:VEVENT
BEGIN:VEVENT
DTSTART;TZID=Europe/London:20260526T080000
DTEND;TZID=Europe/London:20260526T160000
DTSTAMP:20260419T213111
CREATED:20250326T162031Z
LAST-MODIFIED:20250327T093942Z
UID:10011246-1779782400-1779811200@www.buckingham-tc.gov.uk
SUMMARY:Street Market
DESCRIPTION:Buckingham’s street market sells fruits and vegetables\, flowers and plants\, bread\, pots and household goods in the backdrop of the historic Old Gaol area.
URL:https://www.buckingham-tc.gov.uk/event/street-market-4/2026-05-26/
CATEGORIES:Markets
END:VEVENT
BEGIN:VEVENT
DTSTART;TZID=Europe/London:20260530T080000
DTEND;TZID=Europe/London:20260530T160000
DTSTAMP:20260419T213111
CREATED:20250326T162031Z
LAST-MODIFIED:20250327T093942Z
UID:10011247-1780128000-1780156800@www.buckingham-tc.gov.uk
SUMMARY:Street Market
DESCRIPTION:Buckingham’s street market sells fruits and vegetables\, flowers and plants\, bread\, pots and household goods in the backdrop of the historic Old Gaol area.
URL:https://www.buckingham-tc.gov.uk/event/street-market-4/2026-05-30/
CATEGORIES:Markets
END:VEVENT
BEGIN:VEVENT
DTSTART;TZID=Europe/London:20260601T080000
DTEND;TZID=Europe/London:20260607T170000
DTSTAMP:20260419T213111
CREATED:20260108T112727Z
LAST-MODIFIED:20260108T113936Z
UID:10012538-1780300800-1780851600@www.buckingham-tc.gov.uk
SUMMARY:Pride Week
DESCRIPTION:Buckingham Town Council is looking to coordinate Buckingham’s first-ever official Pride Week and invites local organisations\, businesses\, and community groups to get involved. This was at the proposal of the Kings Head Buckingham.  \n\n\n\nIf you are interested in hosting an event\, please let us know so we can help promote and include it in our official programme of events. All ideas are welcome\, from a coffee and crafts morning to a Drag Karaoke night\, and we are keen to include activities for all ages across our community. \n\n\n\nTo mark the start of Pride Month\, the Town Council will be raising the Pride flag on the 1st of June as usual. We hope to encourage businesses and organisations across the town to also commemorate Pride on this day and show their support for an inclusive Buckingham. \n\n\n\nMore information on specific events will be available closer to the time.
URL:https://www.buckingham-tc.gov.uk/event/pride-week/
CATEGORIES:Events
END:VEVENT
BEGIN:VEVENT
DTSTART;TZID=Europe/London:20260602T080000
DTEND;TZID=Europe/London:20260602T160000
DTSTAMP:20260419T213111
CREATED:20250326T162031Z
LAST-MODIFIED:20250327T093942Z
UID:10011248-1780387200-1780416000@www.buckingham-tc.gov.uk
SUMMARY:Street Market
DESCRIPTION:Buckingham’s street market sells fruits and vegetables\, flowers and plants\, bread\, pots and household goods in the backdrop of the historic Old Gaol area.
URL:https://www.buckingham-tc.gov.uk/event/street-market-4/2026-06-02/
CATEGORIES:Markets
END:VEVENT
BEGIN:VEVENT
DTSTART;TZID=Europe/London:20260606T080000
DTEND;TZID=Europe/London:20260606T160000
DTSTAMP:20260419T213111
CREATED:20250326T162031Z
LAST-MODIFIED:20250327T093942Z
UID:10011249-1780732800-1780761600@www.buckingham-tc.gov.uk
SUMMARY:Street Market
DESCRIPTION:Buckingham’s street market sells fruits and vegetables\, flowers and plants\, bread\, pots and household goods in the backdrop of the historic Old Gaol area.
URL:https://www.buckingham-tc.gov.uk/event/street-market-4/2026-06-06/
CATEGORIES:Markets
END:VEVENT
BEGIN:VEVENT
DTSTART;TZID=Europe/London:20260609T080000
DTEND;TZID=Europe/London:20260609T160000
DTSTAMP:20260419T213111
CREATED:20250326T162031Z
LAST-MODIFIED:20250327T093942Z
UID:10011250-1780992000-1781020800@www.buckingham-tc.gov.uk
SUMMARY:Street Market
DESCRIPTION:Buckingham’s street market sells fruits and vegetables\, flowers and plants\, bread\, pots and household goods in the backdrop of the historic Old Gaol area.
URL:https://www.buckingham-tc.gov.uk/event/street-market-4/2026-06-09/
CATEGORIES:Markets
END:VEVENT
BEGIN:VEVENT
DTSTART;TZID=Europe/London:20260613T080000
DTEND;TZID=Europe/London:20260613T160000
DTSTAMP:20260419T213111
CREATED:20250326T162031Z
LAST-MODIFIED:20250327T093942Z
UID:10011251-1781337600-1781366400@www.buckingham-tc.gov.uk
SUMMARY:Street Market
DESCRIPTION:Buckingham’s street market sells fruits and vegetables\, flowers and plants\, bread\, pots and household goods in the backdrop of the historic Old Gaol area.
URL:https://www.buckingham-tc.gov.uk/event/street-market-4/2026-06-13/
CATEGORIES:Markets
END:VEVENT
END:VCALENDAR