BEGIN:VCALENDAR
VERSION:2.0
PRODID:-//Buckingham Town Council - ECPv6.15.20//NONSGML v1.0//EN
CALSCALE:GREGORIAN
METHOD:PUBLISH
X-WR-CALNAME:Buckingham Town Council
X-ORIGINAL-URL:https://www.buckingham-tc.gov.uk
X-WR-CALDESC:Events for Buckingham Town Council
REFRESH-INTERVAL;VALUE=DURATION:PT1H
X-Robots-Tag:noindex
X-PUBLISHED-TTL:PT1H
BEGIN:VTIMEZONE
TZID:Europe/London
BEGIN:DAYLIGHT
TZOFFSETFROM:+0000
TZOFFSETTO:+0100
TZNAME:BST
DTSTART:20250330T010000
END:DAYLIGHT
BEGIN:STANDARD
TZOFFSETFROM:+0100
TZOFFSETTO:+0000
TZNAME:GMT
DTSTART:20251026T010000
END:STANDARD
BEGIN:DAYLIGHT
TZOFFSETFROM:+0000
TZOFFSETTO:+0100
TZNAME:BST
DTSTART:20260329T010000
END:DAYLIGHT
BEGIN:STANDARD
TZOFFSETFROM:+0100
TZOFFSETTO:+0000
TZNAME:GMT
DTSTART:20261025T010000
END:STANDARD
BEGIN:DAYLIGHT
TZOFFSETFROM:+0000
TZOFFSETTO:+0100
TZNAME:BST
DTSTART:20270328T010000
END:DAYLIGHT
BEGIN:STANDARD
TZOFFSETFROM:+0100
TZOFFSETTO:+0000
TZNAME:GMT
DTSTART:20271031T010000
END:STANDARD
END:VTIMEZONE
BEGIN:VEVENT
DTSTART;TZID=Europe/London:20260106T080000
DTEND;TZID=Europe/London:20260106T160000
DTSTAMP:20260419T182937
CREATED:20250326T162031Z
LAST-MODIFIED:20250327T093942Z
UID:10011206-1767686400-1767715200@www.buckingham-tc.gov.uk
SUMMARY:Street Market
DESCRIPTION:Buckingham’s street market sells fruits and vegetables\, flowers and plants\, bread\, pots and household goods in the backdrop of the historic Old Gaol area.
URL:https://www.buckingham-tc.gov.uk/event/street-market-4/2026-01-06/
CATEGORIES:Markets
END:VEVENT
BEGIN:VEVENT
DTSTART;TZID=Europe/London:20260110T080000
DTEND;TZID=Europe/London:20260110T160000
DTSTAMP:20260419T182937
CREATED:20250326T162031Z
LAST-MODIFIED:20250327T093942Z
UID:10011207-1768032000-1768060800@www.buckingham-tc.gov.uk
SUMMARY:Street Market
DESCRIPTION:Buckingham’s street market sells fruits and vegetables\, flowers and plants\, bread\, pots and household goods in the backdrop of the historic Old Gaol area.
URL:https://www.buckingham-tc.gov.uk/event/street-market-4/2026-01-10/
CATEGORIES:Markets
END:VEVENT
BEGIN:VEVENT
DTSTART;TZID=Europe/London:20260113T080000
DTEND;TZID=Europe/London:20260113T160000
DTSTAMP:20260419T182937
CREATED:20250326T162031Z
LAST-MODIFIED:20250327T093942Z
UID:10011208-1768291200-1768320000@www.buckingham-tc.gov.uk
SUMMARY:Street Market
DESCRIPTION:Buckingham’s street market sells fruits and vegetables\, flowers and plants\, bread\, pots and household goods in the backdrop of the historic Old Gaol area.
URL:https://www.buckingham-tc.gov.uk/event/street-market-4/2026-01-13/
CATEGORIES:Markets
END:VEVENT
BEGIN:VEVENT
DTSTART;TZID=Europe/London:20260117T080000
DTEND;TZID=Europe/London:20260117T160000
DTSTAMP:20260419T182937
CREATED:20250326T162031Z
LAST-MODIFIED:20250327T093942Z
UID:10011209-1768636800-1768665600@www.buckingham-tc.gov.uk
SUMMARY:Street Market
DESCRIPTION:Buckingham’s street market sells fruits and vegetables\, flowers and plants\, bread\, pots and household goods in the backdrop of the historic Old Gaol area.
URL:https://www.buckingham-tc.gov.uk/event/street-market-4/2026-01-17/
CATEGORIES:Markets
END:VEVENT
BEGIN:VEVENT
DTSTART;TZID=Europe/London:20260120T080000
DTEND;TZID=Europe/London:20260120T160000
DTSTAMP:20260419T182937
CREATED:20250326T162031Z
LAST-MODIFIED:20250327T093942Z
UID:10011210-1768896000-1768924800@www.buckingham-tc.gov.uk
SUMMARY:Street Market
DESCRIPTION:Buckingham’s street market sells fruits and vegetables\, flowers and plants\, bread\, pots and household goods in the backdrop of the historic Old Gaol area.
URL:https://www.buckingham-tc.gov.uk/event/street-market-4/2026-01-20/
CATEGORIES:Markets
END:VEVENT
BEGIN:VEVENT
DTSTART;TZID=Europe/London:20260124T080000
DTEND;TZID=Europe/London:20260124T160000
DTSTAMP:20260419T182937
CREATED:20250326T162031Z
LAST-MODIFIED:20250327T093942Z
UID:10011211-1769241600-1769270400@www.buckingham-tc.gov.uk
SUMMARY:Street Market
DESCRIPTION:Buckingham’s street market sells fruits and vegetables\, flowers and plants\, bread\, pots and household goods in the backdrop of the historic Old Gaol area.
URL:https://www.buckingham-tc.gov.uk/event/street-market-4/2026-01-24/
CATEGORIES:Markets
END:VEVENT
BEGIN:VEVENT
DTSTART;TZID=Europe/London:20260127T080000
DTEND;TZID=Europe/London:20260127T160000
DTSTAMP:20260419T182937
CREATED:20250326T162031Z
LAST-MODIFIED:20250327T093942Z
UID:10011212-1769500800-1769529600@www.buckingham-tc.gov.uk
SUMMARY:Street Market
DESCRIPTION:Buckingham’s street market sells fruits and vegetables\, flowers and plants\, bread\, pots and household goods in the backdrop of the historic Old Gaol area.
URL:https://www.buckingham-tc.gov.uk/event/street-market-4/2026-01-27/
CATEGORIES:Markets
END:VEVENT
BEGIN:VEVENT
DTSTART;TZID=Europe/London:20260127T110000
DTEND;TZID=Europe/London:20260127T123000
DTSTAMP:20260419T182937
CREATED:20260126T132801Z
LAST-MODIFIED:20260126T132802Z
UID:10012552-1769511600-1769517000@www.buckingham-tc.gov.uk
SUMMARY:Holocaust Memorial Day- Cancelled
DESCRIPTION:The Holocaust Memorial Day public event planned to take place at Bourton Park has been cancelled. \n\n\n\nThis decision has been taken due to ongoing poor weather and unsafe ground conditions. Following site visits\, the memorial stone remains under water\, the ground is heavily saturated\, and with additional heavy rainfall forecast\, the site is not suitable for a safe and accessible public gathering. \n\n\n\nJoin us on Monday 27th January @ 11am in Bourton Park to mark Holocaust Memorial Day. Buckingham Town Council will be commemorating Holocaust Memorial Day with a ceremony around Bourton Park’s Memorial Stone. The service is open to anyone who wishes to attend. \n\n\n\nThe ceremony will be hosted by the Town Mayor\, at the eastern end of Bourton Park.
URL:https://www.buckingham-tc.gov.uk/event/holocaust-memorial-day-cancelled/
ORGANIZER;CN="Buckingham Town Council":MAILTO:estates@buckingham-tc.gov.uk
END:VEVENT
BEGIN:VEVENT
DTSTART;TZID=Europe/London:20260131T080000
DTEND;TZID=Europe/London:20260131T160000
DTSTAMP:20260419T182937
CREATED:20250326T162031Z
LAST-MODIFIED:20250327T093942Z
UID:10011213-1769846400-1769875200@www.buckingham-tc.gov.uk
SUMMARY:Street Market
DESCRIPTION:Buckingham’s street market sells fruits and vegetables\, flowers and plants\, bread\, pots and household goods in the backdrop of the historic Old Gaol area.
URL:https://www.buckingham-tc.gov.uk/event/street-market-4/2026-01-31/
CATEGORIES:Markets
END:VEVENT
BEGIN:VEVENT
DTSTART;TZID=Europe/London:20260203T080000
DTEND;TZID=Europe/London:20260203T160000
DTSTAMP:20260419T182937
CREATED:20250326T162031Z
LAST-MODIFIED:20250327T093942Z
UID:10011214-1770105600-1770134400@www.buckingham-tc.gov.uk
SUMMARY:Street Market
DESCRIPTION:Buckingham’s street market sells fruits and vegetables\, flowers and plants\, bread\, pots and household goods in the backdrop of the historic Old Gaol area.
URL:https://www.buckingham-tc.gov.uk/event/street-market-4/2026-02-03/
CATEGORIES:Markets
END:VEVENT
BEGIN:VEVENT
DTSTART;TZID=Europe/London:20260207T080000
DTEND;TZID=Europe/London:20260207T160000
DTSTAMP:20260419T182937
CREATED:20250326T162031Z
LAST-MODIFIED:20250327T093942Z
UID:10011215-1770451200-1770480000@www.buckingham-tc.gov.uk
SUMMARY:Street Market
DESCRIPTION:Buckingham’s street market sells fruits and vegetables\, flowers and plants\, bread\, pots and household goods in the backdrop of the historic Old Gaol area.
URL:https://www.buckingham-tc.gov.uk/event/street-market-4/2026-02-07/
CATEGORIES:Markets
END:VEVENT
BEGIN:VEVENT
DTSTART;TZID=Europe/London:20260210T080000
DTEND;TZID=Europe/London:20260210T160000
DTSTAMP:20260419T182937
CREATED:20250326T162031Z
LAST-MODIFIED:20250327T093942Z
UID:10011216-1770710400-1770739200@www.buckingham-tc.gov.uk
SUMMARY:Street Market
DESCRIPTION:Buckingham’s street market sells fruits and vegetables\, flowers and plants\, bread\, pots and household goods in the backdrop of the historic Old Gaol area.
URL:https://www.buckingham-tc.gov.uk/event/street-market-4/2026-02-10/
CATEGORIES:Markets
END:VEVENT
BEGIN:VEVENT
DTSTART;TZID=Europe/London:20260214T080000
DTEND;TZID=Europe/London:20260214T160000
DTSTAMP:20260419T182937
CREATED:20250326T162031Z
LAST-MODIFIED:20250327T093942Z
UID:10011217-1771056000-1771084800@www.buckingham-tc.gov.uk
SUMMARY:Street Market
DESCRIPTION:Buckingham’s street market sells fruits and vegetables\, flowers and plants\, bread\, pots and household goods in the backdrop of the historic Old Gaol area.
URL:https://www.buckingham-tc.gov.uk/event/street-market-4/2026-02-14/
CATEGORIES:Markets
END:VEVENT
BEGIN:VEVENT
DTSTART;TZID=Europe/London:20260217T080000
DTEND;TZID=Europe/London:20260217T160000
DTSTAMP:20260419T182937
CREATED:20250326T162031Z
LAST-MODIFIED:20250327T093942Z
UID:10011218-1771315200-1771344000@www.buckingham-tc.gov.uk
SUMMARY:Street Market
DESCRIPTION:Buckingham’s street market sells fruits and vegetables\, flowers and plants\, bread\, pots and household goods in the backdrop of the historic Old Gaol area.
URL:https://www.buckingham-tc.gov.uk/event/street-market-4/2026-02-17/
CATEGORIES:Markets
END:VEVENT
BEGIN:VEVENT
DTSTART;TZID=Europe/London:20260219T110000
DTEND;TZID=Europe/London:20260219T123000
DTSTAMP:20260419T182937
CREATED:20260108T120036Z
LAST-MODIFIED:20260108T120744Z
UID:10012541-1771498800-1771504200@www.buckingham-tc.gov.uk
SUMMARY:Buckingham's Pancake Race
DESCRIPTION:Get your frying pans ready! Our annual pancake race is back\, and we invite you to join us for this fun-filled tradition. It’s free to enter – just bring your frying pan\, apron and head scarf to take part! \n\n\n\nThe Pancake Race is a long-established event open to everyone. The day features a variety of traditional races\, with small prizes for all children participating and trophies for the race winners. \n\n\n\nEvent Schedule \n\n\n\n\nWhen: Thursday\, 19th February 2026\n\n\n\nTime: 11:00 am – 12:30 pm\n\n\n\nWhere: The Green outside St. Peter’s & St. Paul’s Church\n\n\n\nThe event will be officially opened by the Mayor\n\n\n\n\nRace Categories \n\n\n\n\n5 & Under\n\n\n\nAges 6–11\n\n\n\nAges 12–17\n\n\n\nAdult\n\n\n\nRelay\n\n\n\nWalking\n\n\n\n\nNot racing? There will be a pop-up Craft Tent where you can get creative! \n\n\n\nWe can’t wait to see you there!
URL:https://www.buckingham-tc.gov.uk/event/buckinghams-pancake-race/
CATEGORIES:Events
ATTACH;FMTTYPE=image/jpeg:https://www.buckingham-tc.gov.uk/wp-content/uploads/2024/02/468-Children-at-Pancake-Race-Consent-Given.jpg
END:VEVENT
BEGIN:VEVENT
DTSTART;TZID=Europe/London:20260221T080000
DTEND;TZID=Europe/London:20260221T160000
DTSTAMP:20260419T182937
CREATED:20250326T162031Z
LAST-MODIFIED:20250327T093942Z
UID:10011219-1771660800-1771689600@www.buckingham-tc.gov.uk
SUMMARY:Street Market
DESCRIPTION:Buckingham’s street market sells fruits and vegetables\, flowers and plants\, bread\, pots and household goods in the backdrop of the historic Old Gaol area.
URL:https://www.buckingham-tc.gov.uk/event/street-market-4/2026-02-21/
CATEGORIES:Markets
END:VEVENT
BEGIN:VEVENT
DTSTART;TZID=Europe/London:20260224T080000
DTEND;TZID=Europe/London:20260224T160000
DTSTAMP:20260419T182937
CREATED:20250326T162031Z
LAST-MODIFIED:20250327T093942Z
UID:10011220-1771920000-1771948800@www.buckingham-tc.gov.uk
SUMMARY:Street Market
DESCRIPTION:Buckingham’s street market sells fruits and vegetables\, flowers and plants\, bread\, pots and household goods in the backdrop of the historic Old Gaol area.
URL:https://www.buckingham-tc.gov.uk/event/street-market-4/2026-02-24/
CATEGORIES:Markets
END:VEVENT
BEGIN:VEVENT
DTSTART;TZID=Europe/London:20260228T080000
DTEND;TZID=Europe/London:20260228T160000
DTSTAMP:20260419T182937
CREATED:20250326T162031Z
LAST-MODIFIED:20250327T093942Z
UID:10011221-1772265600-1772294400@www.buckingham-tc.gov.uk
SUMMARY:Street Market
DESCRIPTION:Buckingham’s street market sells fruits and vegetables\, flowers and plants\, bread\, pots and household goods in the backdrop of the historic Old Gaol area.
URL:https://www.buckingham-tc.gov.uk/event/street-market-4/2026-02-28/
CATEGORIES:Markets
END:VEVENT
BEGIN:VEVENT
DTSTART;TZID=Europe/London:20260228T100000
DTEND;TZID=Europe/London:20260228T150000
DTSTAMP:20260419T182937
CREATED:20260108T115052Z
LAST-MODIFIED:20260204T130920Z
UID:10012540-1772272800-1772290800@www.buckingham-tc.gov.uk
SUMMARY:Buckingham Food Fair
DESCRIPTION:The annual Food Fair will be held in Buckingham Community Centre on Saturday 28th February 2026 from 10am – 3pm\, showcasing lots of great stalls from local producers. If you would like a stall at this event\, please email office@buckingham-tc.gov.uk. \n\n\n\n\n\n\n\nThis is the exciting line-up of confirmed traders: Brockleby’s Pies\, Chafor Wine\, Crafted by P\, Farmhouse Foods\, Foxdenton\, From Garden 2 Jar\, Garden Organic/Waste Busters\, Monty Booch\, Gusti Dall Italia\, Indian Orchard\, Jaccs Coffee\, Little Leafy Bees\, Manor Farm\, MKS Food\, Northampton Cheese Company (Friars Farm)\, NYC Cookies\, Pure Patisserie\, Replete Flatbreads\, Sizzlers\, Snacks of India\, Stanley’s Treats and the WI. \n\n\n\nWe will also ask everyone who visits this event to vote for their favourite dish from a Buckingham Restaurant or Cafe – so don’t forget to refresh your memories and visit Buckingham’s retailers in the run-up to the event.
URL:https://www.buckingham-tc.gov.uk/event/buckingham-food-fair/
LOCATION:Buckingham Community Centre\, Cornwalls Mdw\,\, Buckingham\, MK18 1RP\, United Kingdom
CATEGORIES:Events
ATTACH;FMTTYPE=image/jpeg:https://www.buckingham-tc.gov.uk/wp-content/uploads/2023/11/20230311_135656.jpg
END:VEVENT
BEGIN:VEVENT
DTSTART;TZID=Europe/London:20260303T080000
DTEND;TZID=Europe/London:20260303T160000
DTSTAMP:20260419T182937
CREATED:20250326T162031Z
LAST-MODIFIED:20250327T093942Z
UID:10011222-1772524800-1772553600@www.buckingham-tc.gov.uk
SUMMARY:Street Market
DESCRIPTION:Buckingham’s street market sells fruits and vegetables\, flowers and plants\, bread\, pots and household goods in the backdrop of the historic Old Gaol area.
URL:https://www.buckingham-tc.gov.uk/event/street-market-4/2026-03-03/
CATEGORIES:Markets
END:VEVENT
BEGIN:VEVENT
DTSTART;TZID=Europe/London:20260307T080000
DTEND;TZID=Europe/London:20260307T160000
DTSTAMP:20260419T182937
CREATED:20250326T162031Z
LAST-MODIFIED:20250327T093942Z
UID:10011223-1772870400-1772899200@www.buckingham-tc.gov.uk
SUMMARY:Street Market
DESCRIPTION:Buckingham’s street market sells fruits and vegetables\, flowers and plants\, bread\, pots and household goods in the backdrop of the historic Old Gaol area.
URL:https://www.buckingham-tc.gov.uk/event/street-market-4/2026-03-07/
CATEGORIES:Markets
END:VEVENT
BEGIN:VEVENT
DTSTART;TZID=Europe/London:20260310T080000
DTEND;TZID=Europe/London:20260310T160000
DTSTAMP:20260419T182937
CREATED:20250326T162031Z
LAST-MODIFIED:20250327T093942Z
UID:10011224-1773129600-1773158400@www.buckingham-tc.gov.uk
SUMMARY:Street Market
DESCRIPTION:Buckingham’s street market sells fruits and vegetables\, flowers and plants\, bread\, pots and household goods in the backdrop of the historic Old Gaol area.
URL:https://www.buckingham-tc.gov.uk/event/street-market-4/2026-03-10/
CATEGORIES:Markets
END:VEVENT
BEGIN:VEVENT
DTSTART;TZID=Europe/London:20260314T080000
DTEND;TZID=Europe/London:20260314T160000
DTSTAMP:20260419T182937
CREATED:20250326T162031Z
LAST-MODIFIED:20250327T093942Z
UID:10011225-1773475200-1773504000@www.buckingham-tc.gov.uk
SUMMARY:Street Market
DESCRIPTION:Buckingham’s street market sells fruits and vegetables\, flowers and plants\, bread\, pots and household goods in the backdrop of the historic Old Gaol area.
URL:https://www.buckingham-tc.gov.uk/event/street-market-4/2026-03-14/
CATEGORIES:Markets
END:VEVENT
BEGIN:VEVENT
DTSTART;TZID=Europe/London:20260317T080000
DTEND;TZID=Europe/London:20260317T160000
DTSTAMP:20260419T182937
CREATED:20250326T162031Z
LAST-MODIFIED:20250327T093942Z
UID:10011226-1773734400-1773763200@www.buckingham-tc.gov.uk
SUMMARY:Street Market
DESCRIPTION:Buckingham’s street market sells fruits and vegetables\, flowers and plants\, bread\, pots and household goods in the backdrop of the historic Old Gaol area.
URL:https://www.buckingham-tc.gov.uk/event/street-market-4/2026-03-17/
CATEGORIES:Markets
END:VEVENT
BEGIN:VEVENT
DTSTART;TZID=Europe/London:20260321T080000
DTEND;TZID=Europe/London:20260321T160000
DTSTAMP:20260419T182937
CREATED:20250326T162031Z
LAST-MODIFIED:20250327T093942Z
UID:10011227-1774080000-1774108800@www.buckingham-tc.gov.uk
SUMMARY:Street Market
DESCRIPTION:Buckingham’s street market sells fruits and vegetables\, flowers and plants\, bread\, pots and household goods in the backdrop of the historic Old Gaol area.
URL:https://www.buckingham-tc.gov.uk/event/street-market-4/2026-03-21/
CATEGORIES:Markets
END:VEVENT
BEGIN:VEVENT
DTSTART;TZID=Europe/London:20260324T080000
DTEND;TZID=Europe/London:20260324T160000
DTSTAMP:20260419T182937
CREATED:20250326T162031Z
LAST-MODIFIED:20250327T093942Z
UID:10011228-1774339200-1774368000@www.buckingham-tc.gov.uk
SUMMARY:Street Market
DESCRIPTION:Buckingham’s street market sells fruits and vegetables\, flowers and plants\, bread\, pots and household goods in the backdrop of the historic Old Gaol area.
URL:https://www.buckingham-tc.gov.uk/event/street-market-4/2026-03-24/
CATEGORIES:Markets
END:VEVENT
BEGIN:VEVENT
DTSTART;TZID=Europe/London:20260326T180000
DTEND;TZID=Europe/London:20260326T200000
DTSTAMP:20260419T182937
CREATED:20260122T105603Z
LAST-MODIFIED:20260227T102620Z
UID:10012551-1774548000-1774555200@www.buckingham-tc.gov.uk
SUMMARY:Buckingham's Annual Town Meeting
DESCRIPTION:The Buckingham Town Council invites all residents and business owners to join us for the 2026 Annual Town Meeting. This is an informal interactive evening which is not structured round a formal agenda. \n\n\n\nWhat to Expect: \n\n\n\nThe hall will be arranged into several Discussion Tables\, each hosted by representatives from the organisations that help our town run every day. This is an informal space where you can drop in\, grab a coffee or tea and a biscuit\, and speak directly with the people shaping our local services. \n\n\n\nConfirmed Discussion Tables\n\n\n\nWe are pleased to announce that the following partners will be hosting tables to discuss their work and hear your views: \n\n\n\n\nHealth: Meet The Swan Practice and the Integrated Neighbourhood Team (INT) to see the latest plans and get updates on Buckingham’s new Health Centre.\n\n\n\nAsk Your Town Council: Speak with representatives from Buckingham Town Council.\n\n\n\nPolice: Meet with Thames Valley Police to discuss local policing and safety in our community.\n\n\n\nEnvironment: Come and meet the experts from the Environment Agency who will be on hand to discuss their work.\n\n\n\nLocal Economy & Skills: Meet the Head of Business Support from Buckinghamshire Business First (BBF).\n\n\n\nCommunity: Connect with the North Bucks Community Board and find out how they support local projects and fund initiatives across the region.\n\n\n\nCallum Anderson MP: Hear directly from our MP and ask questions about local matters\n\n\n\n\n\n\n\n\nCommunity Stalls\n\n\n\nIn addition to the discussion tables\, you can browse stalls from local charities and community groups. It is a fantastic opportunity to see the incredible work happening right now in Buckingham. Confirmed stalls include: \n\n\n\n\nThe Buckingham Clothing Bank\n\n\n\nThe Family Hub\n\n\n\nThe Old Gaol Museum\n\n\n\nThe Buckingham Canal Society\n\n\n\nCitizens Advice\n\n\n\nA representative from Buckingham Town Council will be on hand to talk about the new cemetery and allotments.\n\n\n\nCouncillors who chair our various committees will be available to discuss the work of their committees\, and what they have acheived over the last year.\n\n\n\n\nWhether you want to discuss community safety or the future of our local healthcare\, there will be someone there to listen to your ideas and answer your questions. \n\n\n\n\n\n\n\nEvent Details: \n\n\n\n\nWhen: Thursday\, 26th March 2026\n\n\n\nTime: 6:00pm – 8:00pm\n\n\n\nWhere: Buckingham Community Centre\, Cornwall’s Meadow\n\n\n\nCost: Free to attend (No booking required)\n\n\n\n\n\n\n\n\nHave a question you want addressed? Keep an eye out for our Annual Online Forum\, launching soon\, where you can submit questions in advance!
URL:https://www.buckingham-tc.gov.uk/event/buckinghams-annual-town-meeting/
CATEGORIES:Events
END:VEVENT
BEGIN:VEVENT
DTSTART;TZID=Europe/London:20260328T080000
DTEND;TZID=Europe/London:20260328T160000
DTSTAMP:20260419T182937
CREATED:20250326T162031Z
LAST-MODIFIED:20250327T093942Z
UID:10011229-1774684800-1774713600@www.buckingham-tc.gov.uk
SUMMARY:Street Market
DESCRIPTION:Buckingham’s street market sells fruits and vegetables\, flowers and plants\, bread\, pots and household goods in the backdrop of the historic Old Gaol area.
URL:https://www.buckingham-tc.gov.uk/event/street-market-4/2026-03-28/
CATEGORIES:Markets
END:VEVENT
BEGIN:VEVENT
DTSTART;TZID=Europe/London:20260329T140000
DTEND;TZID=Europe/London:20260329T160000
DTSTAMP:20260419T182937
CREATED:20260112T164929Z
LAST-MODIFIED:20260112T164930Z
UID:10012549-1774792800-1774800000@www.buckingham-tc.gov.uk
SUMMARY:Easter Bazaar
DESCRIPTION:On Sunday 29th March\, Buckingham Town Council is hosting an egg-cellent Easter Bazaar from 2pm to 4pm at the Lace Hill Sports & Community Centre. \n\n\n\nThe community event will feature an array of local creatives selling handmade seasonal gifts and products\, as well as charity stalls and refreshments. Families with young children will find plenty of free activities to enjoy. With something for everyone\, this event is the perfect way to enjoy some early Easter fun during half term. More details on activities to be released closer to the time. \n\n\n\nEntry is free for children\, while adults are asked to contribute a small £1 fee to help support the event’s costs. \n\n\n\nFor stall holder enquiries\, please contact: lacehillcentre@buckingham-tc.gov.uk
URL:https://www.buckingham-tc.gov.uk/event/easter-bazaar-2/
CATEGORIES:Events
ATTACH;FMTTYPE=image/jpeg:https://www.buckingham-tc.gov.uk/wp-content/uploads/2025/02/easter-backdrop.jpg
END:VEVENT
BEGIN:VEVENT
DTSTART;TZID=Europe/London:20260331T080000
DTEND;TZID=Europe/London:20260331T160000
DTSTAMP:20260419T182937
CREATED:20250326T162031Z
LAST-MODIFIED:20250327T093942Z
UID:10011230-1774944000-1774972800@www.buckingham-tc.gov.uk
SUMMARY:Street Market
DESCRIPTION:Buckingham’s street market sells fruits and vegetables\, flowers and plants\, bread\, pots and household goods in the backdrop of the historic Old Gaol area.
URL:https://www.buckingham-tc.gov.uk/event/street-market-4/2026-03-31/
CATEGORIES:Markets
END:VEVENT
END:VCALENDAR