BEGIN:VCALENDAR
VERSION:2.0
PRODID:-//Buckingham Town Council - ECPv6.15.20//NONSGML v1.0//EN
CALSCALE:GREGORIAN
METHOD:PUBLISH
X-WR-CALNAME:Buckingham Town Council
X-ORIGINAL-URL:https://www.buckingham-tc.gov.uk
X-WR-CALDESC:Events for Buckingham Town Council
REFRESH-INTERVAL;VALUE=DURATION:PT1H
X-Robots-Tag:noindex
X-PUBLISHED-TTL:PT1H
BEGIN:VTIMEZONE
TZID:Europe/London
BEGIN:DAYLIGHT
TZOFFSETFROM:+0000
TZOFFSETTO:+0100
TZNAME:BST
DTSTART:20180325T010000
END:DAYLIGHT
BEGIN:STANDARD
TZOFFSETFROM:+0100
TZOFFSETTO:+0000
TZNAME:GMT
DTSTART:20181028T010000
END:STANDARD
BEGIN:DAYLIGHT
TZOFFSETFROM:+0000
TZOFFSETTO:+0100
TZNAME:BST
DTSTART:20190331T010000
END:DAYLIGHT
BEGIN:STANDARD
TZOFFSETFROM:+0100
TZOFFSETTO:+0000
TZNAME:GMT
DTSTART:20191027T010000
END:STANDARD
BEGIN:DAYLIGHT
TZOFFSETFROM:+0000
TZOFFSETTO:+0100
TZNAME:BST
DTSTART:20200329T010000
END:DAYLIGHT
BEGIN:STANDARD
TZOFFSETFROM:+0100
TZOFFSETTO:+0000
TZNAME:GMT
DTSTART:20201025T010000
END:STANDARD
BEGIN:DAYLIGHT
TZOFFSETFROM:+0000
TZOFFSETTO:+0100
TZNAME:BST
DTSTART:20210328T010000
END:DAYLIGHT
BEGIN:STANDARD
TZOFFSETFROM:+0100
TZOFFSETTO:+0000
TZNAME:GMT
DTSTART:20211031T010000
END:STANDARD
END:VTIMEZONE
BEGIN:VEVENT
DTSTART;TZID=Europe/London:20200201T200000
DTEND;TZID=Europe/London:20200201T220000
DTSTAMP:20260422T014445
CREATED:20191210T135433Z
LAST-MODIFIED:20191210T135433Z
UID:10009738-1580587200-1580594400@www.buckingham-tc.gov.uk
SUMMARY:Comedy Night: Angela Barnes
DESCRIPTION:Fantastic comedian Angela Barnes will be back in Buckingham for a headline gig on the 1st February 2020\, Charlie Baker will MC and a mystery third support act is yet to be announced. \nAngela is a regular guest on panel shows Mock the Week and Russell Howard’s Good News\, and gave a hilarious performance on Live at the Apollo. Radio 4 listeners will recognise Angela from The News Quiz. \n“She’s just a gloriously down-to-earth\, straight talking and extremely funny comic.” The Guardian \nTickets are for over 18s only and a paid bar will be available on site at the Royal Latin School. Doors open 7.30pm with the show starting at 8pm. \nTickets are non-refundable.
URL:https://www.buckingham-tc.gov.uk/event/comedy-night/
LOCATION:Royal latin School\, Royal Latin School\, Buckingham\, Buckinghamshire\, Mk18 1AX\, United Kingdom
CATEGORIES:Events
ATTACH;FMTTYPE=:
END:VEVENT
BEGIN:VEVENT
DTSTART;TZID=Europe/London:20200201T090000
DTEND;TZID=Europe/London:20200201T150000
DTSTAMP:20260422T014445
CREATED:20190620T150447Z
LAST-MODIFIED:20190620T150447Z
UID:10010410-1580547600-1580569200@www.buckingham-tc.gov.uk
SUMMARY:Flea Market
DESCRIPTION:Want to know what’s available this week? Follow the Buckingham Town Markets Facebook Page
URL:https://www.buckingham-tc.gov.uk/event/flea-market-2/2020-02-01/
LOCATION:Buckingham Flea Market\, Buckingham Flea Market\, Buckingham\, MK18 9BH\, United Kingdom
CATEGORIES:Markets
ATTACH;FMTTYPE=:
END:VEVENT
BEGIN:VEVENT
DTSTART;TZID=Europe/London:20200201T080000
DTEND;TZID=Europe/London:20200201T160000
DTSTAMP:20260422T014445
CREATED:20190620T150403Z
LAST-MODIFIED:20190620T150403Z
UID:10010125-1580544000-1580572800@www.buckingham-tc.gov.uk
SUMMARY:Street Market
DESCRIPTION:Want to know what’s available this week? Follow the Buckingham Town Markets Facebook Page
URL:https://www.buckingham-tc.gov.uk/event/street-market-3/2020-02-01/
LOCATION:Market Hill\, Market Hill\, Buckingham\, United Kingdom
CATEGORIES:Markets
ATTACH;FMTTYPE=:
END:VEVENT
BEGIN:VEVENT
DTSTART;TZID=Europe/London:20200128T080000
DTEND;TZID=Europe/London:20200128T160000
DTSTAMP:20260422T014445
CREATED:20190620T143840Z
LAST-MODIFIED:20190620T143840Z
UID:10009838-1580198400-1580227200@www.buckingham-tc.gov.uk
SUMMARY:Street Market
DESCRIPTION:Want to know what’s available this week? Follow the Buckingham Town Markets Facebook Page
URL:https://www.buckingham-tc.gov.uk/event/street-market-2/2020-01-28/
LOCATION:Market Hill\, Market Hill\, Buckingham\, United Kingdom
CATEGORIES:Markets
ATTACH;FMTTYPE=:
END:VEVENT
BEGIN:VEVENT
DTSTART;TZID=Europe/London:20200125T090000
DTEND;TZID=Europe/London:20200125T150000
DTSTAMP:20260422T014445
CREATED:20190620T150447Z
LAST-MODIFIED:20190620T150447Z
UID:10010409-1579942800-1579964400@www.buckingham-tc.gov.uk
SUMMARY:Flea Market
DESCRIPTION:Want to know what’s available this week? Follow the Buckingham Town Markets Facebook Page
URL:https://www.buckingham-tc.gov.uk/event/flea-market-2/2020-01-25/
LOCATION:Buckingham Flea Market\, Buckingham Flea Market\, Buckingham\, MK18 9BH\, United Kingdom
CATEGORIES:Markets
ATTACH;FMTTYPE=:
END:VEVENT
BEGIN:VEVENT
DTSTART;TZID=Europe/London:20200125T080000
DTEND;TZID=Europe/London:20200125T160000
DTSTAMP:20260422T014445
CREATED:20190620T150403Z
LAST-MODIFIED:20190620T150403Z
UID:10010124-1579939200-1579968000@www.buckingham-tc.gov.uk
SUMMARY:Street Market
DESCRIPTION:Want to know what’s available this week? Follow the Buckingham Town Markets Facebook Page
URL:https://www.buckingham-tc.gov.uk/event/street-market-3/2020-01-25/
LOCATION:Market Hill\, Market Hill\, Buckingham\, United Kingdom
CATEGORIES:Markets
ATTACH;FMTTYPE=:
END:VEVENT
BEGIN:VEVENT
DTSTART;TZID=Europe/London:20200121T080000
DTEND;TZID=Europe/London:20200121T160000
DTSTAMP:20260422T014445
CREATED:20190620T143840Z
LAST-MODIFIED:20190620T143840Z
UID:10009837-1579593600-1579622400@www.buckingham-tc.gov.uk
SUMMARY:Street Market
DESCRIPTION:Want to know what’s available this week? Follow the Buckingham Town Markets Facebook Page
URL:https://www.buckingham-tc.gov.uk/event/street-market-2/2020-01-21/
LOCATION:Market Hill\, Market Hill\, Buckingham\, United Kingdom
CATEGORIES:Markets
ATTACH;FMTTYPE=:
END:VEVENT
BEGIN:VEVENT
DTSTART;TZID=Europe/London:20200118T090000
DTEND;TZID=Europe/London:20200118T150000
DTSTAMP:20260422T014445
CREATED:20190620T150447Z
LAST-MODIFIED:20190620T150447Z
UID:10010408-1579338000-1579359600@www.buckingham-tc.gov.uk
SUMMARY:Flea Market
DESCRIPTION:Want to know what’s available this week? Follow the Buckingham Town Markets Facebook Page
URL:https://www.buckingham-tc.gov.uk/event/flea-market-2/2020-01-18/
LOCATION:Buckingham Flea Market\, Buckingham Flea Market\, Buckingham\, MK18 9BH\, United Kingdom
CATEGORIES:Markets
ATTACH;FMTTYPE=:
END:VEVENT
BEGIN:VEVENT
DTSTART;TZID=Europe/London:20200118T080000
DTEND;TZID=Europe/London:20200118T160000
DTSTAMP:20260422T014445
CREATED:20190620T150403Z
LAST-MODIFIED:20190620T150403Z
UID:10010123-1579334400-1579363200@www.buckingham-tc.gov.uk
SUMMARY:Street Market
DESCRIPTION:Want to know what’s available this week? Follow the Buckingham Town Markets Facebook Page
URL:https://www.buckingham-tc.gov.uk/event/street-market-3/2020-01-18/
LOCATION:Market Hill\, Market Hill\, Buckingham\, United Kingdom
CATEGORIES:Markets
ATTACH;FMTTYPE=:
END:VEVENT
BEGIN:VEVENT
DTSTART;TZID=Europe/London:20200114T080000
DTEND;TZID=Europe/London:20200114T160000
DTSTAMP:20260422T014445
CREATED:20190620T143840Z
LAST-MODIFIED:20190620T143840Z
UID:10009836-1578988800-1579017600@www.buckingham-tc.gov.uk
SUMMARY:Street Market
DESCRIPTION:Want to know what’s available this week? Follow the Buckingham Town Markets Facebook Page
URL:https://www.buckingham-tc.gov.uk/event/street-market-2/2020-01-14/
LOCATION:Market Hill\, Market Hill\, Buckingham\, United Kingdom
CATEGORIES:Markets
ATTACH;FMTTYPE=:
END:VEVENT
BEGIN:VEVENT
DTSTART;TZID=Europe/London:20200111T090000
DTEND;TZID=Europe/London:20200111T150000
DTSTAMP:20260422T014445
CREATED:20190620T150447Z
LAST-MODIFIED:20190620T150447Z
UID:10010407-1578733200-1578754800@www.buckingham-tc.gov.uk
SUMMARY:Flea Market
DESCRIPTION:Want to know what’s available this week? Follow the Buckingham Town Markets Facebook Page
URL:https://www.buckingham-tc.gov.uk/event/flea-market-2/2020-01-11/
LOCATION:Buckingham Flea Market\, Buckingham Flea Market\, Buckingham\, MK18 9BH\, United Kingdom
CATEGORIES:Markets
ATTACH;FMTTYPE=:
END:VEVENT
BEGIN:VEVENT
DTSTART;TZID=Europe/London:20200111T080000
DTEND;TZID=Europe/London:20200111T160000
DTSTAMP:20260422T014445
CREATED:20190620T150403Z
LAST-MODIFIED:20190620T150403Z
UID:10010122-1578729600-1578758400@www.buckingham-tc.gov.uk
SUMMARY:Street Market
DESCRIPTION:Want to know what’s available this week? Follow the Buckingham Town Markets Facebook Page
URL:https://www.buckingham-tc.gov.uk/event/street-market-3/2020-01-11/
LOCATION:Market Hill\, Market Hill\, Buckingham\, United Kingdom
CATEGORIES:Markets
ATTACH;FMTTYPE=:
END:VEVENT
BEGIN:VEVENT
DTSTART;TZID=Europe/London:20200107T080000
DTEND;TZID=Europe/London:20200107T160000
DTSTAMP:20260422T014445
CREATED:20190620T143840Z
LAST-MODIFIED:20190620T143840Z
UID:10009835-1578384000-1578412800@www.buckingham-tc.gov.uk
SUMMARY:Street Market
DESCRIPTION:Want to know what’s available this week? Follow the Buckingham Town Markets Facebook Page
URL:https://www.buckingham-tc.gov.uk/event/street-market-2/2020-01-07/
LOCATION:Market Hill\, Market Hill\, Buckingham\, United Kingdom
CATEGORIES:Markets
ATTACH;FMTTYPE=:
END:VEVENT
BEGIN:VEVENT
DTSTART;TZID=Europe/London:20200104T090000
DTEND;TZID=Europe/London:20200104T150000
DTSTAMP:20260422T014445
CREATED:20190620T150447Z
LAST-MODIFIED:20190620T150447Z
UID:10010406-1578128400-1578150000@www.buckingham-tc.gov.uk
SUMMARY:Flea Market
DESCRIPTION:Want to know what’s available this week? Follow the Buckingham Town Markets Facebook Page
URL:https://www.buckingham-tc.gov.uk/event/flea-market-2/2020-01-04/
LOCATION:Buckingham Flea Market\, Buckingham Flea Market\, Buckingham\, MK18 9BH\, United Kingdom
CATEGORIES:Markets
ATTACH;FMTTYPE=:
END:VEVENT
BEGIN:VEVENT
DTSTART;TZID=Europe/London:20200104T080000
DTEND;TZID=Europe/London:20200104T160000
DTSTAMP:20260422T014445
CREATED:20190620T150403Z
LAST-MODIFIED:20190620T150403Z
UID:10010121-1578124800-1578153600@www.buckingham-tc.gov.uk
SUMMARY:Street Market
DESCRIPTION:Want to know what’s available this week? Follow the Buckingham Town Markets Facebook Page
URL:https://www.buckingham-tc.gov.uk/event/street-market-3/2020-01-04/
LOCATION:Market Hill\, Market Hill\, Buckingham\, United Kingdom
CATEGORIES:Markets
ATTACH;FMTTYPE=:
END:VEVENT
BEGIN:VEVENT
DTSTART;TZID=Europe/London:20191231T080000
DTEND;TZID=Europe/London:20191231T160000
DTSTAMP:20260422T014445
CREATED:20190620T143840Z
LAST-MODIFIED:20190620T143840Z
UID:10009834-1577779200-1577808000@www.buckingham-tc.gov.uk
SUMMARY:Street Market
DESCRIPTION:Want to know what’s available this week? Follow the Buckingham Town Markets Facebook Page
URL:https://www.buckingham-tc.gov.uk/event/street-market-2/2019-12-31/
LOCATION:Market Hill\, Market Hill\, Buckingham\, United Kingdom
CATEGORIES:Markets
ATTACH;FMTTYPE=:
END:VEVENT
BEGIN:VEVENT
DTSTART;TZID=Europe/London:20191228T090000
DTEND;TZID=Europe/London:20191228T150000
DTSTAMP:20260422T014445
CREATED:20190620T150447Z
LAST-MODIFIED:20190620T150447Z
UID:10010405-1577523600-1577545200@www.buckingham-tc.gov.uk
SUMMARY:Flea Market
DESCRIPTION:Want to know what’s available this week? Follow the Buckingham Town Markets Facebook Page
URL:https://www.buckingham-tc.gov.uk/event/flea-market-2/2019-12-28/
LOCATION:Buckingham Flea Market\, Buckingham Flea Market\, Buckingham\, MK18 9BH\, United Kingdom
CATEGORIES:Markets
ATTACH;FMTTYPE=:
END:VEVENT
BEGIN:VEVENT
DTSTART;TZID=Europe/London:20191228T080000
DTEND;TZID=Europe/London:20191228T160000
DTSTAMP:20260422T014445
CREATED:20190620T150403Z
LAST-MODIFIED:20190620T150403Z
UID:10010120-1577520000-1577548800@www.buckingham-tc.gov.uk
SUMMARY:Street Market
DESCRIPTION:Want to know what’s available this week? Follow the Buckingham Town Markets Facebook Page
URL:https://www.buckingham-tc.gov.uk/event/street-market-3/2019-12-28/
LOCATION:Market Hill\, Market Hill\, Buckingham\, United Kingdom
CATEGORIES:Markets
ATTACH;FMTTYPE=:
END:VEVENT
BEGIN:VEVENT
DTSTART;TZID=Europe/London:20191224T080000
DTEND;TZID=Europe/London:20191224T160000
DTSTAMP:20260422T014445
CREATED:20190620T143840Z
LAST-MODIFIED:20190620T143840Z
UID:10009833-1577174400-1577203200@www.buckingham-tc.gov.uk
SUMMARY:Street Market
DESCRIPTION:Want to know what’s available this week? Follow the Buckingham Town Markets Facebook Page
URL:https://www.buckingham-tc.gov.uk/event/street-market-2/2019-12-24/
LOCATION:Market Hill\, Market Hill\, Buckingham\, United Kingdom
CATEGORIES:Markets
ATTACH;FMTTYPE=:
END:VEVENT
BEGIN:VEVENT
DTSTART;TZID=Europe/London:20191221T090000
DTEND;TZID=Europe/London:20191221T150000
DTSTAMP:20260422T014445
CREATED:20190620T150447Z
LAST-MODIFIED:20190620T150447Z
UID:10010404-1576918800-1576940400@www.buckingham-tc.gov.uk
SUMMARY:Flea Market
DESCRIPTION:Want to know what’s available this week? Follow the Buckingham Town Markets Facebook Page
URL:https://www.buckingham-tc.gov.uk/event/flea-market-2/2019-12-21/
LOCATION:Buckingham Flea Market\, Buckingham Flea Market\, Buckingham\, MK18 9BH\, United Kingdom
CATEGORIES:Markets
ATTACH;FMTTYPE=:
END:VEVENT
BEGIN:VEVENT
DTSTART;TZID=Europe/London:20191221T080000
DTEND;TZID=Europe/London:20191221T160000
DTSTAMP:20260422T014445
CREATED:20190620T150403Z
LAST-MODIFIED:20190620T150403Z
UID:10010119-1576915200-1576944000@www.buckingham-tc.gov.uk
SUMMARY:Street Market
DESCRIPTION:Want to know what’s available this week? Follow the Buckingham Town Markets Facebook Page
URL:https://www.buckingham-tc.gov.uk/event/street-market-3/2019-12-21/
LOCATION:Market Hill\, Market Hill\, Buckingham\, United Kingdom
CATEGORIES:Markets
ATTACH;FMTTYPE=:
END:VEVENT
BEGIN:VEVENT
DTSTART;TZID=Europe/London:20191217T080000
DTEND;TZID=Europe/London:20191217T160000
DTSTAMP:20260422T014445
CREATED:20190620T143840Z
LAST-MODIFIED:20190620T143840Z
UID:10009832-1576569600-1576598400@www.buckingham-tc.gov.uk
SUMMARY:Street Market
DESCRIPTION:Want to know what’s available this week? Follow the Buckingham Town Markets Facebook Page
URL:https://www.buckingham-tc.gov.uk/event/street-market-2/2019-12-17/
LOCATION:Market Hill\, Market Hill\, Buckingham\, United Kingdom
CATEGORIES:Markets
ATTACH;FMTTYPE=:
END:VEVENT
BEGIN:VEVENT
DTSTART;TZID=Europe/London:20191214T113000
DTEND;TZID=Europe/London:20191214T123000
DTSTAMP:20260422T014445
CREATED:20190729T165638Z
LAST-MODIFIED:20190729T165638Z
UID:10009733-1576323000-1576326600@www.buckingham-tc.gov.uk
SUMMARY:Community Fair
DESCRIPTION:
URL:https://www.buckingham-tc.gov.uk/event/community-fair/
LOCATION:Buckingham Community Centre\, Cornwalls Mdw\,\, Buckingham\, MK18 1RP\, United Kingdom
CATEGORIES:Events
ATTACH;FMTTYPE=:
END:VEVENT
BEGIN:VEVENT
DTSTART;TZID=Europe/London:20191214T103000
DTEND;TZID=Europe/London:20191214T113000
DTSTAMP:20260422T014445
CREATED:20190729T164915Z
LAST-MODIFIED:20190729T164915Z
UID:10009732-1576319400-1576323000@www.buckingham-tc.gov.uk
SUMMARY:Christmas Parade
DESCRIPTION:The Christmas Parade draws visitors from all around! \nThis year’s theme is Musicals. Get in touch with the Christmas Parade Committee if you would like to take part or volunteer to help. \nRoad closures will be in place across the town centre\, including bus diversions. Please obey signage\, and keep an eye on our website\, Facebook and Twitter accounts for more information closer to each event.
URL:https://www.buckingham-tc.gov.uk/event/christmas-parade/
LOCATION:Market Hill\, Market Hill\, Buckingham\, United Kingdom
CATEGORIES:Events
ATTACH;FMTTYPE=:
END:VEVENT
BEGIN:VEVENT
DTSTART;TZID=Europe/London:20191214T090000
DTEND;TZID=Europe/London:20191214T150000
DTSTAMP:20260422T014445
CREATED:20190620T150447Z
LAST-MODIFIED:20190620T150447Z
UID:10010403-1576314000-1576335600@www.buckingham-tc.gov.uk
SUMMARY:Flea Market
DESCRIPTION:Want to know what’s available this week? Follow the Buckingham Town Markets Facebook Page
URL:https://www.buckingham-tc.gov.uk/event/flea-market-2/2019-12-14/
LOCATION:Buckingham Flea Market\, Buckingham Flea Market\, Buckingham\, MK18 9BH\, United Kingdom
CATEGORIES:Markets
ATTACH;FMTTYPE=:
END:VEVENT
BEGIN:VEVENT
DTSTART;TZID=Europe/London:20191214T080000
DTEND;TZID=Europe/London:20191214T160000
DTSTAMP:20260422T014445
CREATED:20190620T150403Z
LAST-MODIFIED:20190620T150403Z
UID:10010118-1576310400-1576339200@www.buckingham-tc.gov.uk
SUMMARY:Street Market
DESCRIPTION:Want to know what’s available this week? Follow the Buckingham Town Markets Facebook Page
URL:https://www.buckingham-tc.gov.uk/event/street-market-3/2019-12-14/
LOCATION:Market Hill\, Market Hill\, Buckingham\, United Kingdom
CATEGORIES:Markets
ATTACH;FMTTYPE=:
END:VEVENT
BEGIN:VEVENT
DTSTART;TZID=Europe/London:20191210T080000
DTEND;TZID=Europe/London:20191210T160000
DTSTAMP:20260422T014445
CREATED:20190620T143840Z
LAST-MODIFIED:20190620T143840Z
UID:10009831-1575964800-1575993600@www.buckingham-tc.gov.uk
SUMMARY:Street Market
DESCRIPTION:Want to know what’s available this week? Follow the Buckingham Town Markets Facebook Page
URL:https://www.buckingham-tc.gov.uk/event/street-market-2/2019-12-10/
LOCATION:Market Hill\, Market Hill\, Buckingham\, United Kingdom
CATEGORIES:Markets
ATTACH;FMTTYPE=:
END:VEVENT
BEGIN:VEVENT
DTSTART;TZID=Europe/London:20191207T090000
DTEND;TZID=Europe/London:20191207T150000
DTSTAMP:20260422T014445
CREATED:20190620T150447Z
LAST-MODIFIED:20190620T150447Z
UID:10010402-1575709200-1575730800@www.buckingham-tc.gov.uk
SUMMARY:Flea Market
DESCRIPTION:Want to know what’s available this week? Follow the Buckingham Town Markets Facebook Page
URL:https://www.buckingham-tc.gov.uk/event/flea-market-2/2019-12-07/
LOCATION:Buckingham Flea Market\, Buckingham Flea Market\, Buckingham\, MK18 9BH\, United Kingdom
CATEGORIES:Markets
ATTACH;FMTTYPE=:
END:VEVENT
BEGIN:VEVENT
DTSTART;TZID=Europe/London:20191207T080000
DTEND;TZID=Europe/London:20191207T160000
DTSTAMP:20260422T014445
CREATED:20190620T150403Z
LAST-MODIFIED:20190620T150403Z
UID:10010117-1575705600-1575734400@www.buckingham-tc.gov.uk
SUMMARY:Street Market
DESCRIPTION:Want to know what’s available this week? Follow the Buckingham Town Markets Facebook Page
URL:https://www.buckingham-tc.gov.uk/event/street-market-3/2019-12-07/
LOCATION:Market Hill\, Market Hill\, Buckingham\, United Kingdom
CATEGORIES:Markets
ATTACH;FMTTYPE=:
END:VEVENT
BEGIN:VEVENT
DTSTART;TZID=Europe/London:20191203T080000
DTEND;TZID=Europe/London:20191203T160000
DTSTAMP:20260422T014445
CREATED:20190620T143840Z
LAST-MODIFIED:20190620T143840Z
UID:10009830-1575360000-1575388800@www.buckingham-tc.gov.uk
SUMMARY:Street Market
DESCRIPTION:Want to know what’s available this week? Follow the Buckingham Town Markets Facebook Page
URL:https://www.buckingham-tc.gov.uk/event/street-market-2/2019-12-03/
LOCATION:Market Hill\, Market Hill\, Buckingham\, United Kingdom
CATEGORIES:Markets
ATTACH;FMTTYPE=:
END:VEVENT
END:VCALENDAR