BEGIN:VCALENDAR
VERSION:2.0
PRODID:-//Buckingham Town Council - ECPv6.15.20//NONSGML v1.0//EN
CALSCALE:GREGORIAN
METHOD:PUBLISH
X-ORIGINAL-URL:https://www.buckingham-tc.gov.uk
X-WR-CALDESC:Events for Buckingham Town Council
REFRESH-INTERVAL;VALUE=DURATION:PT1H
X-Robots-Tag:noindex
X-PUBLISHED-TTL:PT1H
BEGIN:VTIMEZONE
TZID:Europe/London
BEGIN:DAYLIGHT
TZOFFSETFROM:+0000
TZOFFSETTO:+0100
TZNAME:BST
DTSTART:20220327T010000
END:DAYLIGHT
BEGIN:STANDARD
TZOFFSETFROM:+0100
TZOFFSETTO:+0000
TZNAME:GMT
DTSTART:20221030T010000
END:STANDARD
BEGIN:DAYLIGHT
TZOFFSETFROM:+0000
TZOFFSETTO:+0100
TZNAME:BST
DTSTART:20230326T010000
END:DAYLIGHT
BEGIN:STANDARD
TZOFFSETFROM:+0100
TZOFFSETTO:+0000
TZNAME:GMT
DTSTART:20231029T010000
END:STANDARD
BEGIN:DAYLIGHT
TZOFFSETFROM:+0000
TZOFFSETTO:+0100
TZNAME:BST
DTSTART:20240331T010000
END:DAYLIGHT
BEGIN:STANDARD
TZOFFSETFROM:+0100
TZOFFSETTO:+0000
TZNAME:GMT
DTSTART:20241027T010000
END:STANDARD
END:VTIMEZONE
BEGIN:VEVENT
DTSTART;TZID=Europe/London:20230629T080000
DTEND;TZID=Europe/London:20230629T170000
DTSTAMP:20260420T152454
CREATED:20230703T201506Z
LAST-MODIFIED:20230703T201513Z
UID:10010959-1688025600-1688058000@www.buckingham-tc.gov.uk
SUMMARY:Buckingham Swan Trail
DESCRIPTION:A free\, fun\, public art trail featuring ten artist decorated swan sculptures.
URL:https://www.buckingham-tc.gov.uk/event/buckingham-swan-trail-2/2023-06-29/
CATEGORIES:Events
END:VEVENT
BEGIN:VEVENT
DTSTART;TZID=Europe/London:20230630T080000
DTEND;TZID=Europe/London:20230630T170000
DTSTAMP:20260420T152454
CREATED:20230703T201506Z
LAST-MODIFIED:20230703T201513Z
UID:10010960-1688112000-1688144400@www.buckingham-tc.gov.uk
SUMMARY:Buckingham Swan Trail
DESCRIPTION:A free\, fun\, public art trail featuring ten artist decorated swan sculptures.
URL:https://www.buckingham-tc.gov.uk/event/buckingham-swan-trail-2/2023-06-30/
CATEGORIES:Events
END:VEVENT
BEGIN:VEVENT
DTSTART;TZID=Europe/London:20230701T080000
DTEND;TZID=Europe/London:20230701T170000
DTSTAMP:20260420T152454
CREATED:20230703T201506Z
LAST-MODIFIED:20230703T201513Z
UID:10010961-1688198400-1688230800@www.buckingham-tc.gov.uk
SUMMARY:Buckingham Swan Trail
DESCRIPTION:A free\, fun\, public art trail featuring ten artist decorated swan sculptures.
URL:https://www.buckingham-tc.gov.uk/event/buckingham-swan-trail-2/2023-07-01/
CATEGORIES:Events
END:VEVENT
BEGIN:VEVENT
DTSTART;TZID=Europe/London:20230702T080000
DTEND;TZID=Europe/London:20230702T170000
DTSTAMP:20260420T152454
CREATED:20230703T201506Z
LAST-MODIFIED:20230703T201513Z
UID:10010962-1688284800-1688317200@www.buckingham-tc.gov.uk
SUMMARY:Buckingham Swan Trail
DESCRIPTION:A free\, fun\, public art trail featuring ten artist decorated swan sculptures.
URL:https://www.buckingham-tc.gov.uk/event/buckingham-swan-trail-2/2023-07-02/
CATEGORIES:Events
END:VEVENT
BEGIN:VEVENT
DTSTART;TZID=Europe/London:20230703T080000
DTEND;TZID=Europe/London:20230703T170000
DTSTAMP:20260420T152454
CREATED:20230703T201506Z
LAST-MODIFIED:20230703T201513Z
UID:10010963-1688371200-1688403600@www.buckingham-tc.gov.uk
SUMMARY:Buckingham Swan Trail
DESCRIPTION:A free\, fun\, public art trail featuring ten artist decorated swan sculptures.
URL:https://www.buckingham-tc.gov.uk/event/buckingham-swan-trail-2/2023-07-03/
CATEGORIES:Events
END:VEVENT
BEGIN:VEVENT
DTSTART;TZID=Europe/London:20230704T080000
DTEND;TZID=Europe/London:20230704T170000
DTSTAMP:20260420T152454
CREATED:20230703T201506Z
LAST-MODIFIED:20230703T201513Z
UID:10010964-1688457600-1688490000@www.buckingham-tc.gov.uk
SUMMARY:Buckingham Swan Trail
DESCRIPTION:A free\, fun\, public art trail featuring ten artist decorated swan sculptures.
URL:https://www.buckingham-tc.gov.uk/event/buckingham-swan-trail-2/2023-07-04/
CATEGORIES:Events
END:VEVENT
BEGIN:VEVENT
DTSTART;TZID=Europe/London:20230705T080000
DTEND;TZID=Europe/London:20230705T170000
DTSTAMP:20260420T152454
CREATED:20230703T201506Z
LAST-MODIFIED:20230703T201513Z
UID:10010965-1688544000-1688576400@www.buckingham-tc.gov.uk
SUMMARY:Buckingham Swan Trail
DESCRIPTION:A free\, fun\, public art trail featuring ten artist decorated swan sculptures.
URL:https://www.buckingham-tc.gov.uk/event/buckingham-swan-trail-2/2023-07-05/
CATEGORIES:Events
END:VEVENT
BEGIN:VEVENT
DTSTART;TZID=Europe/London:20230706T080000
DTEND;TZID=Europe/London:20230706T170000
DTSTAMP:20260420T152454
CREATED:20230703T201506Z
LAST-MODIFIED:20230703T201513Z
UID:10010966-1688630400-1688662800@www.buckingham-tc.gov.uk
SUMMARY:Buckingham Swan Trail
DESCRIPTION:A free\, fun\, public art trail featuring ten artist decorated swan sculptures.
URL:https://www.buckingham-tc.gov.uk/event/buckingham-swan-trail-2/2023-07-06/
CATEGORIES:Events
END:VEVENT
BEGIN:VEVENT
DTSTART;TZID=Europe/London:20230707T080000
DTEND;TZID=Europe/London:20230707T170000
DTSTAMP:20260420T152454
CREATED:20230703T201506Z
LAST-MODIFIED:20230703T201513Z
UID:10010967-1688716800-1688749200@www.buckingham-tc.gov.uk
SUMMARY:Buckingham Swan Trail
DESCRIPTION:A free\, fun\, public art trail featuring ten artist decorated swan sculptures.
URL:https://www.buckingham-tc.gov.uk/event/buckingham-swan-trail-2/2023-07-07/
CATEGORIES:Events
END:VEVENT
BEGIN:VEVENT
DTSTART;TZID=Europe/London:20230708T080000
DTEND;TZID=Europe/London:20230708T170000
DTSTAMP:20260420T152454
CREATED:20230703T201506Z
LAST-MODIFIED:20230703T201513Z
UID:10010968-1688803200-1688835600@www.buckingham-tc.gov.uk
SUMMARY:Buckingham Swan Trail
DESCRIPTION:A free\, fun\, public art trail featuring ten artist decorated swan sculptures.
URL:https://www.buckingham-tc.gov.uk/event/buckingham-swan-trail-2/2023-07-08/
CATEGORIES:Events
END:VEVENT
BEGIN:VEVENT
DTSTART;TZID=Europe/London:20230709T080000
DTEND;TZID=Europe/London:20230709T170000
DTSTAMP:20260420T152454
CREATED:20230703T201506Z
LAST-MODIFIED:20230703T201513Z
UID:10010969-1688889600-1688922000@www.buckingham-tc.gov.uk
SUMMARY:Buckingham Swan Trail
DESCRIPTION:A free\, fun\, public art trail featuring ten artist decorated swan sculptures.
URL:https://www.buckingham-tc.gov.uk/event/buckingham-swan-trail-2/2023-07-09/
CATEGORIES:Events
END:VEVENT
BEGIN:VEVENT
DTSTART;TZID=Europe/London:20230710T080000
DTEND;TZID=Europe/London:20230710T170000
DTSTAMP:20260420T152454
CREATED:20230703T201506Z
LAST-MODIFIED:20230703T201513Z
UID:10010970-1688976000-1689008400@www.buckingham-tc.gov.uk
SUMMARY:Buckingham Swan Trail
DESCRIPTION:A free\, fun\, public art trail featuring ten artist decorated swan sculptures.
URL:https://www.buckingham-tc.gov.uk/event/buckingham-swan-trail-2/2023-07-10/
CATEGORIES:Events
END:VEVENT
BEGIN:VEVENT
DTSTART;TZID=Europe/London:20230711T080000
DTEND;TZID=Europe/London:20230711T170000
DTSTAMP:20260420T152454
CREATED:20230703T201506Z
LAST-MODIFIED:20230703T201513Z
UID:10010971-1689062400-1689094800@www.buckingham-tc.gov.uk
SUMMARY:Buckingham Swan Trail
DESCRIPTION:A free\, fun\, public art trail featuring ten artist decorated swan sculptures.
URL:https://www.buckingham-tc.gov.uk/event/buckingham-swan-trail-2/2023-07-11/
CATEGORIES:Events
END:VEVENT
BEGIN:VEVENT
DTSTART;TZID=Europe/London:20230712T080000
DTEND;TZID=Europe/London:20230712T170000
DTSTAMP:20260420T152454
CREATED:20230703T201506Z
LAST-MODIFIED:20230703T201513Z
UID:10010972-1689148800-1689181200@www.buckingham-tc.gov.uk
SUMMARY:Buckingham Swan Trail
DESCRIPTION:A free\, fun\, public art trail featuring ten artist decorated swan sculptures.
URL:https://www.buckingham-tc.gov.uk/event/buckingham-swan-trail-2/2023-07-12/
CATEGORIES:Events
END:VEVENT
BEGIN:VEVENT
DTSTART;TZID=Europe/London:20230713T080000
DTEND;TZID=Europe/London:20230713T170000
DTSTAMP:20260420T152454
CREATED:20230703T201506Z
LAST-MODIFIED:20230703T201513Z
UID:10010973-1689235200-1689267600@www.buckingham-tc.gov.uk
SUMMARY:Buckingham Swan Trail
DESCRIPTION:A free\, fun\, public art trail featuring ten artist decorated swan sculptures.
URL:https://www.buckingham-tc.gov.uk/event/buckingham-swan-trail-2/2023-07-13/
CATEGORIES:Events
END:VEVENT
BEGIN:VEVENT
DTSTART;TZID=Europe/London:20230714T080000
DTEND;TZID=Europe/London:20230714T170000
DTSTAMP:20260420T152454
CREATED:20230703T201506Z
LAST-MODIFIED:20230703T201513Z
UID:10010974-1689321600-1689354000@www.buckingham-tc.gov.uk
SUMMARY:Buckingham Swan Trail
DESCRIPTION:A free\, fun\, public art trail featuring ten artist decorated swan sculptures.
URL:https://www.buckingham-tc.gov.uk/event/buckingham-swan-trail-2/2023-07-14/
CATEGORIES:Events
END:VEVENT
BEGIN:VEVENT
DTSTART;TZID=Europe/London:20230715T080000
DTEND;TZID=Europe/London:20230715T170000
DTSTAMP:20260420T152454
CREATED:20230703T201506Z
LAST-MODIFIED:20230703T201513Z
UID:10010975-1689408000-1689440400@www.buckingham-tc.gov.uk
SUMMARY:Buckingham Swan Trail
DESCRIPTION:A free\, fun\, public art trail featuring ten artist decorated swan sculptures.
URL:https://www.buckingham-tc.gov.uk/event/buckingham-swan-trail-2/2023-07-15/
CATEGORIES:Events
END:VEVENT
BEGIN:VEVENT
DTSTART;TZID=Europe/London:20230716T080000
DTEND;TZID=Europe/London:20230716T170000
DTSTAMP:20260420T152454
CREATED:20230703T201506Z
LAST-MODIFIED:20230703T201513Z
UID:10010976-1689494400-1689526800@www.buckingham-tc.gov.uk
SUMMARY:Buckingham Swan Trail
DESCRIPTION:A free\, fun\, public art trail featuring ten artist decorated swan sculptures.
URL:https://www.buckingham-tc.gov.uk/event/buckingham-swan-trail-2/2023-07-16/
CATEGORIES:Events
END:VEVENT
BEGIN:VEVENT
DTSTART;TZID=Europe/London:20230717T080000
DTEND;TZID=Europe/London:20230717T170000
DTSTAMP:20260420T152454
CREATED:20230703T201506Z
LAST-MODIFIED:20230703T201513Z
UID:10010977-1689580800-1689613200@www.buckingham-tc.gov.uk
SUMMARY:Buckingham Swan Trail
DESCRIPTION:A free\, fun\, public art trail featuring ten artist decorated swan sculptures.
URL:https://www.buckingham-tc.gov.uk/event/buckingham-swan-trail-2/2023-07-17/
CATEGORIES:Events
END:VEVENT
BEGIN:VEVENT
DTSTART;TZID=Europe/London:20230718T080000
DTEND;TZID=Europe/London:20230718T170000
DTSTAMP:20260420T152454
CREATED:20230703T201506Z
LAST-MODIFIED:20230703T201513Z
UID:10010978-1689667200-1689699600@www.buckingham-tc.gov.uk
SUMMARY:Buckingham Swan Trail
DESCRIPTION:A free\, fun\, public art trail featuring ten artist decorated swan sculptures.
URL:https://www.buckingham-tc.gov.uk/event/buckingham-swan-trail-2/2023-07-18/
CATEGORIES:Events
END:VEVENT
BEGIN:VEVENT
DTSTART;TZID=Europe/London:20230719T080000
DTEND;TZID=Europe/London:20230719T170000
DTSTAMP:20260420T152454
CREATED:20230703T201506Z
LAST-MODIFIED:20230703T201513Z
UID:10010979-1689753600-1689786000@www.buckingham-tc.gov.uk
SUMMARY:Buckingham Swan Trail
DESCRIPTION:A free\, fun\, public art trail featuring ten artist decorated swan sculptures.
URL:https://www.buckingham-tc.gov.uk/event/buckingham-swan-trail-2/2023-07-19/
CATEGORIES:Events
END:VEVENT
BEGIN:VEVENT
DTSTART;TZID=Europe/London:20230720T080000
DTEND;TZID=Europe/London:20230720T170000
DTSTAMP:20260420T152454
CREATED:20230703T201506Z
LAST-MODIFIED:20230703T201513Z
UID:10010980-1689840000-1689872400@www.buckingham-tc.gov.uk
SUMMARY:Buckingham Swan Trail
DESCRIPTION:A free\, fun\, public art trail featuring ten artist decorated swan sculptures.
URL:https://www.buckingham-tc.gov.uk/event/buckingham-swan-trail-2/2023-07-20/
CATEGORIES:Events
END:VEVENT
BEGIN:VEVENT
DTSTART;TZID=Europe/London:20230721T080000
DTEND;TZID=Europe/London:20230721T170000
DTSTAMP:20260420T152454
CREATED:20230703T201506Z
LAST-MODIFIED:20230703T201513Z
UID:10010981-1689926400-1689958800@www.buckingham-tc.gov.uk
SUMMARY:Buckingham Swan Trail
DESCRIPTION:A free\, fun\, public art trail featuring ten artist decorated swan sculptures.
URL:https://www.buckingham-tc.gov.uk/event/buckingham-swan-trail-2/2023-07-21/
CATEGORIES:Events
END:VEVENT
BEGIN:VEVENT
DTSTART;TZID=Europe/London:20230721T123000
DTEND;TZID=Europe/London:20230722T230000
DTSTAMP:20260420T152454
CREATED:20230424T135454Z
LAST-MODIFIED:20230424T144845Z
UID:10010942-1689942600-1690066800@www.buckingham-tc.gov.uk
SUMMARY:The BFG Concert
DESCRIPTION:Wayno Promotions with Strawberry Fieldz in Association with Alvin & AP Productions proudly present the BFG as part of Buckingham Fringe Week. This two-day event will start with a night of Soul\, Motown and RnB on Friday whilst Saturday boasts Jennah\, Enzo and guitar classics. Plus\, tributes to Dolly Parton\, Phil Collins\, Lady GaGa\, UB40\, and Michael Jackson. Headlining is Alvin as Elvis and 2Tone!
URL:https://www.buckingham-tc.gov.uk/event/the-bfg-concert/
LOCATION:Moretonville Football Club\, Gawcott\, Buckingham\, MK18 4JD
CATEGORIES:Events
ATTACH;FMTTYPE=image/png:https://www.buckingham-tc.gov.uk/wp-content/uploads/2023/04/the-bfg.png
END:VEVENT
BEGIN:VEVENT
DTSTART;TZID=Europe/London:20230722T080000
DTEND;TZID=Europe/London:20230722T170000
DTSTAMP:20260420T152454
CREATED:20230703T201506Z
LAST-MODIFIED:20230703T201513Z
UID:10010982-1690012800-1690045200@www.buckingham-tc.gov.uk
SUMMARY:Buckingham Swan Trail
DESCRIPTION:A free\, fun\, public art trail featuring ten artist decorated swan sculptures.
URL:https://www.buckingham-tc.gov.uk/event/buckingham-swan-trail-2/2023-07-22/
CATEGORIES:Events
END:VEVENT
BEGIN:VEVENT
DTSTART;TZID=Europe/London:20230722T100000
DTEND;TZID=Europe/London:20230722T130000
DTSTAMP:20260420T152454
CREATED:20230424T140657Z
LAST-MODIFIED:20230424T141847Z
UID:10010943-1690020000-1690030800@www.buckingham-tc.gov.uk
SUMMARY:Jumble Sale
DESCRIPTION:Come along to the Buckingham Fringe Week Jumble Sale and grab a bargain. The event will be held in Buckingham’s Salvation Army Hall and will run from 10am – 1pm. There will be pre-loved toys\, clothes\, books\, bric- a-brac and more.  Proceeds will go to the mayor’s charities and the Salvation Army.
URL:https://www.buckingham-tc.gov.uk/event/jumble-sale/
LOCATION:Salvation Army\, Moreton Road\, Buckingham\, MK18 1JZ
CATEGORIES:Events
ATTACH;FMTTYPE=image/png:https://www.buckingham-tc.gov.uk/wp-content/uploads/2023/04/SA-Red-Shield-resized-for-web-use.png
END:VEVENT
BEGIN:VEVENT
DTSTART;TZID=Europe/London:20230722T110000
DTEND;TZID=Europe/London:20230722T130000
DTSTAMP:20260420T152454
CREATED:20230703T194440Z
LAST-MODIFIED:20230703T194859Z
UID:10010953-1690023600-1690030800@www.buckingham-tc.gov.uk
SUMMARY:Free Market Entertainment
DESCRIPTION:Buckingham Pantomime is usually a January event only\, oh yes it is! However\, this year some of the cast are joining in the fun of the Fringe and will be here to entertain on Sat 22nd July with some sketches from this year’s panto\, come down and say hello! \n\n\n\nIf anyone is interested in being involved in the Panto please contact buckinghampanto@gmail.com
URL:https://www.buckingham-tc.gov.uk/event/free-market-entertainment/
CATEGORIES:Events
END:VEVENT
BEGIN:VEVENT
DTSTART;TZID=Europe/London:20230723T080000
DTEND;TZID=Europe/London:20230723T170000
DTSTAMP:20260420T152454
CREATED:20230703T201506Z
LAST-MODIFIED:20230703T201513Z
UID:10010983-1690099200-1690131600@www.buckingham-tc.gov.uk
SUMMARY:Buckingham Swan Trail
DESCRIPTION:A free\, fun\, public art trail featuring ten artist decorated swan sculptures.
URL:https://www.buckingham-tc.gov.uk/event/buckingham-swan-trail-2/2023-07-23/
CATEGORIES:Events
END:VEVENT
BEGIN:VEVENT
DTSTART;TZID=Europe/London:20230723T130000
DTEND;TZID=Europe/London:20230723T160000
DTSTAMP:20260420T152454
CREATED:20230413T095807Z
LAST-MODIFIED:20230703T195119Z
UID:10010909-1690117200-1690128000@www.buckingham-tc.gov.uk
SUMMARY:Family Fun Day
DESCRIPTION:Join us for an afternoon of family fun at Lace Hill Sports and Community Centre on Sunday 23rd July 2023 from 1pm until 4pm. \n\n\n\nOrganised by Buckingham Town Council and supported by local organisations and businesses this is a FREE family friendly event. Everyone is welcome and it is suitable for all ages. Pack your blankets or bring a chair so you can enjoy the day in comfort. \n\n\n\nFree parking is available on site and the venue is all on one level making it easily accessible including a disabled toilet and blue badge parking. But we encourage visitors to travel by public transport or other environmentally friendly methods wherever possible. The carpark will be marshalled on the day\, so it is first come first served. The venue can easily be accessed via local bus routes\, the nearest bus stop is on London Rd near Tesco. \n\n\n\nBuckingham Town Council take photos and videos at their events\, these may get published.
URL:https://www.buckingham-tc.gov.uk/event/family-fun-day-3/
LOCATION:Lace Hill Sports & Community Centre\, Lace Hill Sports & Community Centre\, Buckingham\, MK18 7RR
CATEGORIES:Events
ATTACH;FMTTYPE=image/jpeg:https://www.buckingham-tc.gov.uk/wp-content/uploads/2023/04/picture-2.jpg
END:VEVENT
BEGIN:VEVENT
DTSTART;TZID=Europe/London:20230724T080000
DTEND;TZID=Europe/London:20230724T170000
DTSTAMP:20260420T152454
CREATED:20230703T201506Z
LAST-MODIFIED:20230703T201513Z
UID:10010984-1690185600-1690218000@www.buckingham-tc.gov.uk
SUMMARY:Buckingham Swan Trail
DESCRIPTION:A free\, fun\, public art trail featuring ten artist decorated swan sculptures.
URL:https://www.buckingham-tc.gov.uk/event/buckingham-swan-trail-2/2023-07-24/
CATEGORIES:Events
END:VEVENT
END:VCALENDAR