BEGIN:VCALENDAR
VERSION:2.0
PRODID:-//Buckingham Town Council - ECPv6.15.20//NONSGML v1.0//EN
CALSCALE:GREGORIAN
METHOD:PUBLISH
X-ORIGINAL-URL:https://www.buckingham-tc.gov.uk
X-WR-CALDESC:Events for Buckingham Town Council
REFRESH-INTERVAL;VALUE=DURATION:PT1H
X-Robots-Tag:noindex
X-PUBLISHED-TTL:PT1H
BEGIN:VTIMEZONE
TZID:Europe/London
BEGIN:DAYLIGHT
TZOFFSETFROM:+0000
TZOFFSETTO:+0100
TZNAME:BST
DTSTART:20190331T010000
END:DAYLIGHT
BEGIN:STANDARD
TZOFFSETFROM:+0100
TZOFFSETTO:+0000
TZNAME:GMT
DTSTART:20191027T010000
END:STANDARD
BEGIN:DAYLIGHT
TZOFFSETFROM:+0000
TZOFFSETTO:+0100
TZNAME:BST
DTSTART:20200329T010000
END:DAYLIGHT
BEGIN:STANDARD
TZOFFSETFROM:+0100
TZOFFSETTO:+0000
TZNAME:GMT
DTSTART:20201025T010000
END:STANDARD
BEGIN:DAYLIGHT
TZOFFSETFROM:+0000
TZOFFSETTO:+0100
TZNAME:BST
DTSTART:20210328T010000
END:DAYLIGHT
BEGIN:STANDARD
TZOFFSETFROM:+0100
TZOFFSETTO:+0000
TZNAME:GMT
DTSTART:20211031T010000
END:STANDARD
BEGIN:DAYLIGHT
TZOFFSETFROM:+0000
TZOFFSETTO:+0100
TZNAME:BST
DTSTART:20220327T010000
END:DAYLIGHT
BEGIN:STANDARD
TZOFFSETFROM:+0100
TZOFFSETTO:+0000
TZNAME:GMT
DTSTART:20221030T010000
END:STANDARD
END:VTIMEZONE
BEGIN:VEVENT
DTSTART;TZID=Europe/London:20210823T100000
DTEND;TZID=Europe/London:20210823T150000
DTSTAMP:20260421T133825
CREATED:20210315T144111Z
LAST-MODIFIED:20210315T144111Z
UID:10009777-1629712800-1629730800@www.buckingham-tc.gov.uk
SUMMARY:Play Around the Parishes
DESCRIPTION:Play Around the Parishes is organised by Buckinghamshire Council and is a free event.\n\n\nIt is aimed at children aged 1-10 with the intention for them to have the opportunity to explore lots of arts and crafts and fun activities such as soft play and inflatables! \n\n\nFor more information about dates and locations\, visit Buckinghamshire Council’s website or call them on 01296 585 298. You can also find event details on our Facebook event page.
URL:https://www.buckingham-tc.gov.uk/event/play-around-the-parishes-2/2021-08-23/
LOCATION:Chandos Park\, Chandos Park\, Buckingham\, Buckinghamshire\, MK18 1AJ\, United Kingdom
CATEGORIES:Events
ATTACH;FMTTYPE=:
ORGANIZER;CN="Buckinghamshire Council":MAILTO:events@buckingham-tc.gov.uk
END:VEVENT
BEGIN:VEVENT
DTSTART;TZID=Europe/London:20210809T100000
DTEND;TZID=Europe/London:20210809T150000
DTSTAMP:20260421T133825
CREATED:20210315T144111Z
LAST-MODIFIED:20210315T144111Z
UID:10009776-1628503200-1628521200@www.buckingham-tc.gov.uk
SUMMARY:Play Around the Parishes
DESCRIPTION:Play Around the Parishes is organised by Buckinghamshire Council and is a free event.\n\n\nIt is aimed at children aged 1-10 with the intention for them to have the opportunity to explore lots of arts and crafts and fun activities such as soft play and inflatables! \n\n\nFor more information about dates and locations\, visit Buckinghamshire Council’s website or call them on 01296 585 298. You can also find event details on our Facebook event page.
URL:https://www.buckingham-tc.gov.uk/event/play-around-the-parishes-2/2021-08-09/
LOCATION:Chandos Park\, Chandos Park\, Buckingham\, Buckinghamshire\, MK18 1AJ\, United Kingdom
CATEGORIES:Events
ATTACH;FMTTYPE=:
ORGANIZER;CN="Buckinghamshire Council":MAILTO:events@buckingham-tc.gov.uk
END:VEVENT
BEGIN:VEVENT
DTSTART;TZID=Europe/London:20210726T100000
DTEND;TZID=Europe/London:20210726T150000
DTSTAMP:20260421T133825
CREATED:20210315T144111Z
LAST-MODIFIED:20210315T144111Z
UID:10009775-1627293600-1627311600@www.buckingham-tc.gov.uk
SUMMARY:Play Around the Parishes
DESCRIPTION:Play Around the Parishes is organised by Buckinghamshire Council and is a free event.\n\n\nIt is aimed at children aged 1-10 with the intention for them to have the opportunity to explore lots of arts and crafts and fun activities such as soft play and inflatables! \n\n\nFor more information about dates and locations\, visit Buckinghamshire Council’s website or call them on 01296 585 298. You can also find event details on our Facebook event page.
URL:https://www.buckingham-tc.gov.uk/event/play-around-the-parishes-2/2021-07-26/
LOCATION:Chandos Park\, Chandos Park\, Buckingham\, Buckinghamshire\, MK18 1AJ\, United Kingdom
CATEGORIES:Events
ATTACH;FMTTYPE=:
ORGANIZER;CN="Buckinghamshire Council":MAILTO:events@buckingham-tc.gov.uk
END:VEVENT
BEGIN:VEVENT
DTSTART;TZID=Europe/London:20200727T120000
DTEND;TZID=Europe/London:20200809T233000
DTSTAMP:20260421T133825
CREATED:20200723T140659Z
LAST-MODIFIED:20200723T140659Z
UID:10010774-1595851200-1597015800@www.buckingham-tc.gov.uk
SUMMARY:Family Hunt
DESCRIPTION:Free Event. The Family Hunt is part of Play Around The Parishes and has been organised by Buckinghamshire Council and is supported by Buckingham Town Council. The Family Hunt will run from Monday 27th July to Sunday 9th August and the theme is Summer Fun.\nThe Family Hunt will take place in Bourton Park and there will be many clues for families to find. You will need to look around the park to find the summer related picture. Each picture has a letter on it. Download the message finder sheet from Summer Message Finder – A4 answer sheet (1) (3)and write down the letter on the finder sheet to see what the secret message is
URL:https://www.buckingham-tc.gov.uk/event/family-hunt/
CATEGORIES:Events
ATTACH;FMTTYPE=:
ORGANIZER;CN="Buckinghamshire Council":MAILTO:events@buckingham-tc.gov.uk
END:VEVENT
END:VCALENDAR